BEGIN:VCALENDAR
VERSION:2.0
PRODID:-//Official Website for Langkawi Cable Car - ECPv6.6.0//NONSGML v1.0//EN
CALSCALE:GREGORIAN
METHOD:PUBLISH
X-ORIGINAL-URL:https://panoramalangkawi.com
X-WR-CALDESC:Events for Official Website for Langkawi Cable Car
REFRESH-INTERVAL;VALUE=DURATION:PT1H
X-Robots-Tag:noindex
X-PUBLISHED-TTL:PT1H
BEGIN:VTIMEZONE
TZID:Asia/Kuala_Lumpur
BEGIN:STANDARD
TZOFFSETFROM:+0800
TZOFFSETTO:+0800
TZNAME:+08
DTSTART:20260101T000000
END:STANDARD
END:VTIMEZONE
BEGIN:VEVENT
DTSTART;TZID=Asia/Kuala_Lumpur:20260801T093000
DTEND;TZID=Asia/Kuala_Lumpur:20260811T180000
DTSTAMP:20260421T162939
CREATED:20251203T030950Z
LAST-MODIFIED:20251203T030952Z
UID:134930-1785576600-1786471200@panoramalangkawi.com
SUMMARY:Normal Operation
DESCRIPTION:
URL:https://panoramalangkawi.com/operation-calendar/normal-operation-250/
CATEGORIES:Normal Operation
END:VEVENT
BEGIN:VEVENT
DTSTART;TZID=Asia/Kuala_Lumpur:20260812T120000
DTEND;TZID=Asia/Kuala_Lumpur:20260812T180000
DTSTAMP:20260421T162939
CREATED:20251203T031406Z
LAST-MODIFIED:20251203T031406Z
UID:134936-1786536000-1786557600@panoramalangkawi.com
SUMMARY:Weekly Maintenance
DESCRIPTION:
URL:https://panoramalangkawi.com/operation-calendar/weekly-maintenance-16/
CATEGORIES:Operation Start 12:00 Noon
END:VEVENT
BEGIN:VEVENT
DTSTART;TZID=Asia/Kuala_Lumpur:20260813T093000
DTEND;TZID=Asia/Kuala_Lumpur:20260818T180000
DTSTAMP:20260421T162939
CREATED:20251203T031127Z
LAST-MODIFIED:20251203T031128Z
UID:134932-1786613400-1787076000@panoramalangkawi.com
SUMMARY:Normal Operation
DESCRIPTION:
URL:https://panoramalangkawi.com/operation-calendar/normal-operation-251/
CATEGORIES:Normal Operation
END:VEVENT
BEGIN:VEVENT
DTSTART;TZID=Asia/Kuala_Lumpur:20260819T120000
DTEND;TZID=Asia/Kuala_Lumpur:20260819T180000
DTSTAMP:20260421T162939
CREATED:20251203T031510Z
LAST-MODIFIED:20251203T031512Z
UID:134938-1787140800-1787162400@panoramalangkawi.com
SUMMARY:Weekly Maintenance
DESCRIPTION:
URL:https://panoramalangkawi.com/operation-calendar/weekly-maintenance-17/
CATEGORIES:Operation Start 12:00 Noon
END:VEVENT
BEGIN:VEVENT
DTSTART;TZID=Asia/Kuala_Lumpur:20260820T093000
DTEND;TZID=Asia/Kuala_Lumpur:20260831T180000
DTSTAMP:20260421T162939
CREATED:20251203T031307Z
LAST-MODIFIED:20251203T031309Z
UID:134934-1787218200-1788199200@panoramalangkawi.com
SUMMARY:Normal Operation
DESCRIPTION:
URL:https://panoramalangkawi.com/operation-calendar/normal-operation-252/
CATEGORIES:Normal Operation
END:VEVENT
END:VCALENDAR