BEGIN:VCALENDAR
VERSION:2.0
PRODID:-//Official Website for Langkawi Cable Car - ECPv6.6.0//NONSGML v1.0//EN
CALSCALE:GREGORIAN
METHOD:PUBLISH
X-WR-CALNAME:Official Website for Langkawi Cable Car
X-ORIGINAL-URL:https://panoramalangkawi.com
X-WR-CALDESC:Events for Official Website for Langkawi Cable Car
REFRESH-INTERVAL;VALUE=DURATION:PT1H
X-Robots-Tag:noindex
X-PUBLISHED-TTL:PT1H
BEGIN:VTIMEZONE
TZID:Asia/Kuala_Lumpur
BEGIN:STANDARD
TZOFFSETFROM:+0800
TZOFFSETTO:+0800
TZNAME:+08
DTSTART:20250101T000000
END:STANDARD
END:VTIMEZONE
BEGIN:VEVENT
DTSTART;TZID=Asia/Kuala_Lumpur:20250501T093000
DTEND;TZID=Asia/Kuala_Lumpur:20250501T180000
DTSTAMP:20260421T174423
CREATED:20241029T021717Z
LAST-MODIFIED:20241029T021718Z
UID:133778-1746091800-1746122400@panoramalangkawi.com
SUMMARY:Happy Labour Day!
DESCRIPTION:
URL:https://panoramalangkawi.com/operation-calendar/happy-labour-day/
CATEGORIES:Public Holiday
END:VEVENT
BEGIN:VEVENT
DTSTART;TZID=Asia/Kuala_Lumpur:20250502T093000
DTEND;TZID=Asia/Kuala_Lumpur:20250506T180000
DTSTAMP:20260421T174423
CREATED:20241029T021824Z
LAST-MODIFIED:20241029T021825Z
UID:133780-1746178200-1746554400@panoramalangkawi.com
SUMMARY:Normal Operation
DESCRIPTION:
URL:https://panoramalangkawi.com/operation-calendar/normal-operation-191/
CATEGORIES:Normal Operation
END:VEVENT
BEGIN:VEVENT
DTSTART;TZID=Asia/Kuala_Lumpur:20250507T120000
DTEND;TZID=Asia/Kuala_Lumpur:20250507T180000
DTSTAMP:20260421T174423
CREATED:20241029T025011Z
LAST-MODIFIED:20241029T025012Z
UID:133790-1746619200-1746640800@panoramalangkawi.com
SUMMARY:Operation Start at 12.00 Noon
DESCRIPTION:
URL:https://panoramalangkawi.com/operation-calendar/operation-start-at-12-00-noon-57/
CATEGORIES:Operation Start 12:00 Noon
END:VEVENT
BEGIN:VEVENT
DTSTART;TZID=Asia/Kuala_Lumpur:20250508T093000
DTEND;TZID=Asia/Kuala_Lumpur:20250511T170000
DTSTAMP:20260421T174423
CREATED:20241029T022038Z
LAST-MODIFIED:20241029T022116Z
UID:133782-1746696600-1746982800@panoramalangkawi.com
SUMMARY:Normal Operation
DESCRIPTION:
URL:https://panoramalangkawi.com/operation-calendar/normal-operation-192/
CATEGORIES:Normal Operation
END:VEVENT
BEGIN:VEVENT
DTSTART;TZID=Asia/Kuala_Lumpur:20250512T093000
DTEND;TZID=Asia/Kuala_Lumpur:20250512T180000
DTSTAMP:20260421T174423
CREATED:20241029T024820Z
LAST-MODIFIED:20241029T024821Z
UID:133788-1747042200-1747072800@panoramalangkawi.com
SUMMARY:Happy Wesak Day!
DESCRIPTION:
URL:https://panoramalangkawi.com/operation-calendar/happy-wesak-day/
CATEGORIES:Public Holiday
END:VEVENT
BEGIN:VEVENT
DTSTART;TZID=Asia/Kuala_Lumpur:20250513T093000
DTEND;TZID=Asia/Kuala_Lumpur:20250513T180000
DTSTAMP:20260421T174423
CREATED:20241029T024622Z
LAST-MODIFIED:20241029T024623Z
UID:133784-1747128600-1747159200@panoramalangkawi.com
SUMMARY:Normal Operation
DESCRIPTION:
URL:https://panoramalangkawi.com/operation-calendar/normal-operation-193/
CATEGORIES:Normal Operation
END:VEVENT
BEGIN:VEVENT
DTSTART;TZID=Asia/Kuala_Lumpur:20250514T120000
DTEND;TZID=Asia/Kuala_Lumpur:20250514T180000
DTSTAMP:20260421T174423
CREATED:20241029T061436Z
LAST-MODIFIED:20241029T061437Z
UID:133792-1747224000-1747245600@panoramalangkawi.com
SUMMARY:Operation Start at 12.00 Noon
DESCRIPTION:
URL:https://panoramalangkawi.com/operation-calendar/operation-start-at-12-00-noon-58/
CATEGORIES:Operation Start 12:00 Noon
END:VEVENT
BEGIN:VEVENT
DTSTART;TZID=Asia/Kuala_Lumpur:20250515T093000
DTEND;TZID=Asia/Kuala_Lumpur:20250521T180000
DTSTAMP:20260421T174423
CREATED:20241029T024719Z
LAST-MODIFIED:20250518T024658Z
UID:133786-1747301400-1747850400@panoramalangkawi.com
SUMMARY:Normal Operation
DESCRIPTION:
URL:https://panoramalangkawi.com/operation-calendar/normal-operation-194/
CATEGORIES:Normal Operation
END:VEVENT
BEGIN:VEVENT
DTSTART;TZID=Asia/Kuala_Lumpur:20250522T093000
DTEND;TZID=Asia/Kuala_Lumpur:20250524T200000
DTSTAMP:20260421T174423
CREATED:20250518T024503Z
LAST-MODIFIED:20250518T024537Z
UID:134143-1747906200-1748116800@panoramalangkawi.com
SUMMARY:Extended Operation Hour
DESCRIPTION:
URL:https://panoramalangkawi.com/operation-calendar/134143/
CATEGORIES:Extended Operation Hour
END:VEVENT
BEGIN:VEVENT
DTSTART;TZID=Asia/Kuala_Lumpur:20250525T000000
DTEND;TZID=Asia/Kuala_Lumpur:20250531T235959
DTSTAMP:20260421T174423
CREATED:20250518T024753Z
LAST-MODIFIED:20250529T045025Z
UID:134147-1748131200-1748735999@panoramalangkawi.com
SUMMARY:Normal Operation
DESCRIPTION:Operation start from 9.30 am to 6.00 pm
URL:https://panoramalangkawi.com/operation-calendar/normal-operation-225/
CATEGORIES:Normal Operation
END:VEVENT
END:VCALENDAR