BEGIN:VCALENDAR
VERSION:2.0
PRODID:-//Official Website for Langkawi Cable Car - ECPv6.6.0//NONSGML v1.0//EN
CALSCALE:GREGORIAN
METHOD:PUBLISH
X-WR-CALNAME:Official Website for Langkawi Cable Car
X-ORIGINAL-URL:https://panoramalangkawi.com
X-WR-CALDESC:Events for Official Website for Langkawi Cable Car
REFRESH-INTERVAL;VALUE=DURATION:PT1H
X-Robots-Tag:noindex
X-PUBLISHED-TTL:PT1H
BEGIN:VTIMEZONE
TZID:Asia/Shanghai
BEGIN:STANDARD
TZOFFSETFROM:+0800
TZOFFSETTO:+0800
TZNAME:CST
DTSTART:20200101T000000
END:STANDARD
END:VTIMEZONE
BEGIN:VEVENT
DTSTART;TZID=Asia/Shanghai:20201225T090000
DTEND;TZID=Asia/Shanghai:20201225T180000
DTSTAMP:20260423T065251
CREATED:20191112T023032Z
LAST-MODIFIED:20201223T013350Z
UID:92506-1608886800-1608919200@panoramalangkawi.com
SUMMARY:Public Holiday
DESCRIPTION:Christmas! Operation start from 9.00 am until 6.00 pm daily. Thank You
URL:https://panoramalangkawi.com/operation-calendar/public-holiday-31/
CATEGORIES:Public Holiday
END:VEVENT
END:VCALENDAR