BEGIN:VCALENDAR
VERSION:2.0
PRODID:-//Official Website for Langkawi Cable Car - ECPv6.6.0//NONSGML v1.0//EN
CALSCALE:GREGORIAN
METHOD:PUBLISH
X-ORIGINAL-URL:https://panoramalangkawi.com
X-WR-CALDESC:Events for Official Website for Langkawi Cable Car
REFRESH-INTERVAL;VALUE=DURATION:PT1H
X-Robots-Tag:noindex
X-PUBLISHED-TTL:PT1H
BEGIN:VTIMEZONE
TZID:Asia/Shanghai
BEGIN:STANDARD
TZOFFSETFROM:+0800
TZOFFSETTO:+0800
TZNAME:CST
DTSTART:20200101T000000
END:STANDARD
END:VTIMEZONE
BEGIN:VEVENT
DTSTART;TZID=Asia/Shanghai:20200125T083000
DTEND;TZID=Asia/Shanghai:20200126T190000
DTSTAMP:20260423T190419
CREATED:20200119T045358Z
LAST-MODIFIED:20200119T045358Z
UID:109652-1579941000-1580065200@panoramalangkawi.com
SUMMARY:Public Holiday
DESCRIPTION:Chinesse New Year! Operation start from 8.30 am until 7.00 pm daily. Thank you
URL:https://panoramalangkawi.com/operation-calendar/public-holiday-17/
CATEGORIES:Public Holiday
END:VEVENT
END:VCALENDAR