BEGIN:VCALENDAR
VERSION:2.0
PRODID:-//Official Website for Langkawi Cable Car - ECPv6.6.0//NONSGML v1.0//EN
CALSCALE:GREGORIAN
METHOD:PUBLISH
X-WR-CALNAME:Official Website for Langkawi Cable Car
X-ORIGINAL-URL:https://panoramalangkawi.com
X-WR-CALDESC:Events for Official Website for Langkawi Cable Car
REFRESH-INTERVAL;VALUE=DURATION:PT1H
X-Robots-Tag:noindex
X-PUBLISHED-TTL:PT1H
BEGIN:VTIMEZONE
TZID:Asia/Shanghai
BEGIN:STANDARD
TZOFFSETFROM:+0800
TZOFFSETTO:+0800
TZNAME:CST
DTSTART:20190101T000000
END:STANDARD
END:VTIMEZONE
BEGIN:VEVENT
DTSTART;TZID=Asia/Shanghai:20191109T090000
DTEND;TZID=Asia/Shanghai:20191109T190000
DTSTAMP:20260423T214041
CREATED:20181213T004220Z
LAST-MODIFIED:20181213T004220Z
UID:35530-1573290000-1573326000@panoramalangkawi.com
SUMMARY:Public Holiday
DESCRIPTION:Maulidur Rasul! Operation start from 9.00 am until 7.00 pm daily. Thank You
URL:https://panoramalangkawi.com/operation-calendar/public-holiday-14/
CATEGORIES:Public Holiday
END:VEVENT
END:VCALENDAR