BEGIN:VCALENDAR
VERSION:2.0
PRODID:-//Official Website for Langkawi Cable Car - ECPv6.6.0//NONSGML v1.0//EN
CALSCALE:GREGORIAN
METHOD:PUBLISH
X-WR-CALNAME:Official Website for Langkawi Cable Car
X-ORIGINAL-URL:https://panoramalangkawi.com
X-WR-CALDESC:Events for Official Website for Langkawi Cable Car
REFRESH-INTERVAL;VALUE=DURATION:PT1H
X-Robots-Tag:noindex
X-PUBLISHED-TTL:PT1H
BEGIN:VTIMEZONE
TZID:Asia/Shanghai
BEGIN:STANDARD
TZOFFSETFROM:+0800
TZOFFSETTO:+0800
TZNAME:CST
DTSTART:20190101T000000
END:STANDARD
END:VTIMEZONE
BEGIN:VEVENT
DTSTART;TZID=Asia/Shanghai:20190403T093000
DTEND;TZID=Asia/Shanghai:20190403T180000
DTSTAMP:20260425T003718
CREATED:20181211T071117Z
LAST-MODIFIED:20181211T071117Z
UID:35117-1554283800-1554314400@panoramalangkawi.com
SUMMARY:Public Holiday
DESCRIPTION:Israk & Mikraj! \nSkyCab\, SkyBridge & SkyGlide is closed for public. \nOperation for product such as SkyRex\, 6D Cinemotion\, SkyBoutique\, 3D Art Langkawi\, Time Travel\, SkyAdvanture Park\, Oriental Express and One Stop Center are not effected and will be operating as usual from 9.30 am - 6.00 pm. Thank You
URL:https://panoramalangkawi.com/operation-calendar/public-holiday-3/
CATEGORIES:Public Holiday
END:VEVENT
END:VCALENDAR