BEGIN:VCALENDAR
VERSION:2.0
PRODID:-//Official Website for Langkawi Cable Car - ECPv6.6.0//NONSGML v1.0//EN
CALSCALE:GREGORIAN
METHOD:PUBLISH
X-WR-CALNAME:Official Website for Langkawi Cable Car
X-ORIGINAL-URL:https://panoramalangkawi.com
X-WR-CALDESC:Events for Official Website for Langkawi Cable Car
REFRESH-INTERVAL;VALUE=DURATION:PT1H
X-Robots-Tag:noindex
X-PUBLISHED-TTL:PT1H
BEGIN:VTIMEZONE
TZID:Asia/Kuala_Lumpur
BEGIN:STANDARD
TZOFFSETFROM:+0800
TZOFFSETTO:+0800
TZNAME:+08
DTSTART:20240101T000000
END:STANDARD
END:VTIMEZONE
BEGIN:VEVENT
DTSTART;TZID=Asia/Kuala_Lumpur:20241127T093000
DTEND;TZID=Asia/Kuala_Lumpur:20241127T180000
DTSTAMP:20260424T224311
CREATED:20231227T081122Z
LAST-MODIFIED:20231227T081436Z
UID:132988-1732699800-1732730400@panoramalangkawi.com
SUMMARY:Normal Operation
DESCRIPTION:
URL:https://panoramalangkawi.com/operation-calendar/normal-operation-170-2024-11-27/
CATEGORIES:Normal Operation
END:VEVENT
BEGIN:VEVENT
DTSTART;TZID=Asia/Kuala_Lumpur:20241126T093000
DTEND;TZID=Asia/Kuala_Lumpur:20241126T180000
DTSTAMP:20260424T224311
CREATED:20231227T081122Z
LAST-MODIFIED:20231227T081436Z
UID:132987-1732613400-1732644000@panoramalangkawi.com
SUMMARY:Normal Operation
DESCRIPTION:
URL:https://panoramalangkawi.com/operation-calendar/normal-operation-170-2024-11-26/
CATEGORIES:Normal Operation
END:VEVENT
BEGIN:VEVENT
DTSTART;TZID=Asia/Kuala_Lumpur:20241125T093000
DTEND;TZID=Asia/Kuala_Lumpur:20241125T180000
DTSTAMP:20260424T224311
CREATED:20231227T081122Z
LAST-MODIFIED:20231227T081433Z
UID:132986-1732527000-1732557600@panoramalangkawi.com
SUMMARY:Normal Operation
DESCRIPTION:
URL:https://panoramalangkawi.com/operation-calendar/normal-operation-170-2024-11-25/
CATEGORIES:Normal Operation
END:VEVENT
BEGIN:VEVENT
DTSTART;TZID=Asia/Kuala_Lumpur:20241124T093000
DTEND;TZID=Asia/Kuala_Lumpur:20241124T180000
DTSTAMP:20260424T224311
CREATED:20231227T081122Z
LAST-MODIFIED:20231227T081433Z
UID:132985-1732440600-1732471200@panoramalangkawi.com
SUMMARY:Normal Operation
DESCRIPTION:
URL:https://panoramalangkawi.com/operation-calendar/normal-operation-170-2024-11-24/
CATEGORIES:Normal Operation
END:VEVENT
BEGIN:VEVENT
DTSTART;TZID=Asia/Kuala_Lumpur:20241123T093000
DTEND;TZID=Asia/Kuala_Lumpur:20241123T180000
DTSTAMP:20260424T224311
CREATED:20231227T081122Z
LAST-MODIFIED:20231227T081433Z
UID:132984-1732354200-1732384800@panoramalangkawi.com
SUMMARY:Normal Operation
DESCRIPTION:
URL:https://panoramalangkawi.com/operation-calendar/normal-operation-170-2024-11-23/
CATEGORIES:Normal Operation
END:VEVENT
BEGIN:VEVENT
DTSTART;TZID=Asia/Kuala_Lumpur:20241122T093000
DTEND;TZID=Asia/Kuala_Lumpur:20241122T180000
DTSTAMP:20260424T224311
CREATED:20231227T081122Z
LAST-MODIFIED:20231227T081433Z
UID:132983-1732267800-1732298400@panoramalangkawi.com
SUMMARY:Normal Operation
DESCRIPTION:
URL:https://panoramalangkawi.com/operation-calendar/normal-operation-170-2024-11-22/
CATEGORIES:Normal Operation
END:VEVENT
BEGIN:VEVENT
DTSTART;TZID=Asia/Kuala_Lumpur:20241121T093000
DTEND;TZID=Asia/Kuala_Lumpur:20241121T180000
DTSTAMP:20260424T224311
CREATED:20231227T081122Z
LAST-MODIFIED:20231227T081433Z
UID:132982-1732181400-1732212000@panoramalangkawi.com
SUMMARY:Normal Operation
DESCRIPTION:
URL:https://panoramalangkawi.com/operation-calendar/normal-operation-170-2024-11-21/
CATEGORIES:Normal Operation
END:VEVENT
BEGIN:VEVENT
DTSTART;TZID=Asia/Kuala_Lumpur:20241119T093000
DTEND;TZID=Asia/Kuala_Lumpur:20241119T180000
DTSTAMP:20260424T224311
CREATED:20231227T081122Z
LAST-MODIFIED:20231227T081433Z
UID:132981-1732008600-1732039200@panoramalangkawi.com
SUMMARY:Normal Operation
DESCRIPTION:
URL:https://panoramalangkawi.com/operation-calendar/normal-operation-170-2024-11-19/
CATEGORIES:Normal Operation
END:VEVENT
BEGIN:VEVENT
DTSTART;TZID=Asia/Kuala_Lumpur:20241118T093000
DTEND;TZID=Asia/Kuala_Lumpur:20241118T180000
DTSTAMP:20260424T224311
CREATED:20231227T081122Z
LAST-MODIFIED:20231227T081433Z
UID:132980-1731922200-1731952800@panoramalangkawi.com
SUMMARY:Normal Operation
DESCRIPTION:
URL:https://panoramalangkawi.com/operation-calendar/normal-operation-170-2024-11-18/
CATEGORIES:Normal Operation
END:VEVENT
BEGIN:VEVENT
DTSTART;TZID=Asia/Kuala_Lumpur:20241117T093000
DTEND;TZID=Asia/Kuala_Lumpur:20241117T180000
DTSTAMP:20260424T224311
CREATED:20231227T081122Z
LAST-MODIFIED:20231227T081433Z
UID:132979-1731835800-1731866400@panoramalangkawi.com
SUMMARY:Normal Operation
DESCRIPTION:
URL:https://panoramalangkawi.com/operation-calendar/normal-operation-170-2024-11-17/
CATEGORIES:Normal Operation
END:VEVENT
BEGIN:VEVENT
DTSTART;TZID=Asia/Kuala_Lumpur:20241116T093000
DTEND;TZID=Asia/Kuala_Lumpur:20241116T180000
DTSTAMP:20260424T224311
CREATED:20231227T081122Z
LAST-MODIFIED:20231227T081433Z
UID:132978-1731749400-1731780000@panoramalangkawi.com
SUMMARY:Normal Operation
DESCRIPTION:
URL:https://panoramalangkawi.com/operation-calendar/normal-operation-170-2024-11-16/
CATEGORIES:Normal Operation
END:VEVENT
BEGIN:VEVENT
DTSTART;TZID=Asia/Kuala_Lumpur:20241115T093000
DTEND;TZID=Asia/Kuala_Lumpur:20241115T180000
DTSTAMP:20260424T224311
CREATED:20231227T081122Z
LAST-MODIFIED:20231227T081432Z
UID:132977-1731663000-1731693600@panoramalangkawi.com
SUMMARY:Normal Operation
DESCRIPTION:
URL:https://panoramalangkawi.com/operation-calendar/normal-operation-170-2024-11-15/
CATEGORIES:Normal Operation
END:VEVENT
BEGIN:VEVENT
DTSTART;TZID=Asia/Kuala_Lumpur:20241114T093000
DTEND;TZID=Asia/Kuala_Lumpur:20241114T180000
DTSTAMP:20260424T224311
CREATED:20231227T081122Z
LAST-MODIFIED:20231227T081429Z
UID:132976-1731576600-1731607200@panoramalangkawi.com
SUMMARY:Normal Operation
DESCRIPTION:
URL:https://panoramalangkawi.com/operation-calendar/normal-operation-170-2024-11-14/
CATEGORIES:Normal Operation
END:VEVENT
BEGIN:VEVENT
DTSTART;TZID=Asia/Kuala_Lumpur:20241112T093000
DTEND;TZID=Asia/Kuala_Lumpur:20241112T180000
DTSTAMP:20260424T224311
CREATED:20231227T081122Z
LAST-MODIFIED:20231227T081429Z
UID:132975-1731403800-1731434400@panoramalangkawi.com
SUMMARY:Normal Operation
DESCRIPTION:
URL:https://panoramalangkawi.com/operation-calendar/normal-operation-170-2024-11-12/
CATEGORIES:Normal Operation
END:VEVENT
BEGIN:VEVENT
DTSTART;TZID=Asia/Kuala_Lumpur:20241111T093000
DTEND;TZID=Asia/Kuala_Lumpur:20241111T180000
DTSTAMP:20260424T224311
CREATED:20231227T081122Z
LAST-MODIFIED:20231227T081429Z
UID:132974-1731317400-1731348000@panoramalangkawi.com
SUMMARY:Normal Operation
DESCRIPTION:
URL:https://panoramalangkawi.com/operation-calendar/normal-operation-170-2024-11-11/
CATEGORIES:Normal Operation
END:VEVENT
BEGIN:VEVENT
DTSTART;TZID=Asia/Kuala_Lumpur:20241110T093000
DTEND;TZID=Asia/Kuala_Lumpur:20241110T180000
DTSTAMP:20260424T224311
CREATED:20231227T081122Z
LAST-MODIFIED:20231227T081429Z
UID:132973-1731231000-1731261600@panoramalangkawi.com
SUMMARY:Normal Operation
DESCRIPTION:
URL:https://panoramalangkawi.com/operation-calendar/normal-operation-170-2024-11-10/
CATEGORIES:Normal Operation
END:VEVENT
BEGIN:VEVENT
DTSTART;TZID=Asia/Kuala_Lumpur:20241109T093000
DTEND;TZID=Asia/Kuala_Lumpur:20241109T180000
DTSTAMP:20260424T224311
CREATED:20231227T081122Z
LAST-MODIFIED:20231227T081429Z
UID:132972-1731144600-1731175200@panoramalangkawi.com
SUMMARY:Normal Operation
DESCRIPTION:
URL:https://panoramalangkawi.com/operation-calendar/normal-operation-170-2024-11-09/
CATEGORIES:Normal Operation
END:VEVENT
BEGIN:VEVENT
DTSTART;TZID=Asia/Kuala_Lumpur:20241108T093000
DTEND;TZID=Asia/Kuala_Lumpur:20241108T180000
DTSTAMP:20260424T224311
CREATED:20231227T081122Z
LAST-MODIFIED:20231227T081429Z
UID:132971-1731058200-1731088800@panoramalangkawi.com
SUMMARY:Normal Operation
DESCRIPTION:
URL:https://panoramalangkawi.com/operation-calendar/normal-operation-170-2024-11-08/
CATEGORIES:Normal Operation
END:VEVENT
BEGIN:VEVENT
DTSTART;TZID=Asia/Kuala_Lumpur:20241107T093000
DTEND;TZID=Asia/Kuala_Lumpur:20241107T180000
DTSTAMP:20260424T224311
CREATED:20231227T081122Z
LAST-MODIFIED:20231227T081429Z
UID:132970-1730971800-1731002400@panoramalangkawi.com
SUMMARY:Normal Operation
DESCRIPTION:
URL:https://panoramalangkawi.com/operation-calendar/normal-operation-170-2024-11-07/
CATEGORIES:Normal Operation
END:VEVENT
BEGIN:VEVENT
DTSTART;TZID=Asia/Kuala_Lumpur:20241105T093000
DTEND;TZID=Asia/Kuala_Lumpur:20241105T180000
DTSTAMP:20260424T224311
CREATED:20231227T081122Z
LAST-MODIFIED:20231227T081428Z
UID:132969-1730799000-1730829600@panoramalangkawi.com
SUMMARY:Normal Operation
DESCRIPTION:
URL:https://panoramalangkawi.com/operation-calendar/normal-operation-170-2024-11-05/
CATEGORIES:Normal Operation
END:VEVENT
BEGIN:VEVENT
DTSTART;TZID=Asia/Kuala_Lumpur:20241104T093000
DTEND;TZID=Asia/Kuala_Lumpur:20241104T180000
DTSTAMP:20260424T224311
CREATED:20231227T081122Z
LAST-MODIFIED:20231227T081428Z
UID:132968-1730712600-1730743200@panoramalangkawi.com
SUMMARY:Normal Operation
DESCRIPTION:
URL:https://panoramalangkawi.com/operation-calendar/normal-operation-170-2024-11-04/
CATEGORIES:Normal Operation
END:VEVENT
BEGIN:VEVENT
DTSTART;TZID=Asia/Kuala_Lumpur:20241103T093000
DTEND;TZID=Asia/Kuala_Lumpur:20241103T180000
DTSTAMP:20260424T224311
CREATED:20231227T081122Z
LAST-MODIFIED:20231227T081428Z
UID:132967-1730626200-1730656800@panoramalangkawi.com
SUMMARY:Normal Operation
DESCRIPTION:
URL:https://panoramalangkawi.com/operation-calendar/normal-operation-170-2024-11-03/
CATEGORIES:Normal Operation
END:VEVENT
BEGIN:VEVENT
DTSTART;TZID=Asia/Kuala_Lumpur:20241102T093000
DTEND;TZID=Asia/Kuala_Lumpur:20241102T180000
DTSTAMP:20260424T224311
CREATED:20231227T081122Z
LAST-MODIFIED:20231227T081424Z
UID:132964-1730539800-1730570400@panoramalangkawi.com
SUMMARY:Normal Operation
DESCRIPTION:
URL:https://panoramalangkawi.com/operation-calendar/normal-operation-170/
CATEGORIES:Normal Operation
END:VEVENT
BEGIN:VEVENT
DTSTART;TZID=Asia/Kuala_Lumpur:20241031T093000
DTEND;TZID=Asia/Kuala_Lumpur:20241031T180000
DTSTAMP:20260424T224311
CREATED:20231227T074317Z
LAST-MODIFIED:20231227T074317Z
UID:132938-1730367000-1730397600@panoramalangkawi.com
SUMMARY:Normal Operation
DESCRIPTION:
URL:https://panoramalangkawi.com/operation-calendar/normal-operation-169-2024-10-31/
CATEGORIES:Normal Operation
END:VEVENT
BEGIN:VEVENT
DTSTART;TZID=Asia/Kuala_Lumpur:20241030T093000
DTEND;TZID=Asia/Kuala_Lumpur:20241030T180000
DTSTAMP:20260424T224311
CREATED:20231227T074317Z
LAST-MODIFIED:20231227T074317Z
UID:132937-1730280600-1730311200@panoramalangkawi.com
SUMMARY:Normal Operation
DESCRIPTION:
URL:https://panoramalangkawi.com/operation-calendar/normal-operation-169-2024-10-30/
CATEGORIES:Normal Operation
END:VEVENT
BEGIN:VEVENT
DTSTART;TZID=Asia/Kuala_Lumpur:20241029T093000
DTEND;TZID=Asia/Kuala_Lumpur:20241029T180000
DTSTAMP:20260424T224311
CREATED:20231227T074317Z
LAST-MODIFIED:20231227T080422Z
UID:132928-1730194200-1730224800@panoramalangkawi.com
SUMMARY:Normal Operation
DESCRIPTION:
URL:https://panoramalangkawi.com/operation-calendar/normal-operation-169-2024-10-29/
CATEGORIES:Normal Operation
END:VEVENT
BEGIN:VEVENT
DTSTART;TZID=Asia/Kuala_Lumpur:20241028T093000
DTEND;TZID=Asia/Kuala_Lumpur:20241028T180000
DTSTAMP:20260424T224311
CREATED:20231227T074317Z
LAST-MODIFIED:20231227T080422Z
UID:132927-1730107800-1730138400@panoramalangkawi.com
SUMMARY:Normal Operation
DESCRIPTION:
URL:https://panoramalangkawi.com/operation-calendar/normal-operation-169-2024-10-28/
CATEGORIES:Normal Operation
END:VEVENT
BEGIN:VEVENT
DTSTART;TZID=Asia/Kuala_Lumpur:20241027T093000
DTEND;TZID=Asia/Kuala_Lumpur:20241027T180000
DTSTAMP:20260424T224311
CREATED:20231227T074317Z
LAST-MODIFIED:20231227T080422Z
UID:132926-1730021400-1730052000@panoramalangkawi.com
SUMMARY:Normal Operation
DESCRIPTION:
URL:https://panoramalangkawi.com/operation-calendar/normal-operation-169-2024-10-27/
CATEGORIES:Normal Operation
END:VEVENT
BEGIN:VEVENT
DTSTART;TZID=Asia/Kuala_Lumpur:20241026T093000
DTEND;TZID=Asia/Kuala_Lumpur:20241026T180000
DTSTAMP:20260424T224311
CREATED:20231227T074317Z
LAST-MODIFIED:20231227T080422Z
UID:132925-1729935000-1729965600@panoramalangkawi.com
SUMMARY:Normal Operation
DESCRIPTION:
URL:https://panoramalangkawi.com/operation-calendar/normal-operation-169-2024-10-26/
CATEGORIES:Normal Operation
END:VEVENT
BEGIN:VEVENT
DTSTART;TZID=Asia/Kuala_Lumpur:20241025T093000
DTEND;TZID=Asia/Kuala_Lumpur:20241025T180000
DTSTAMP:20260424T224311
CREATED:20231227T074317Z
LAST-MODIFIED:20231227T080422Z
UID:132924-1729848600-1729879200@panoramalangkawi.com
SUMMARY:Normal Operation
DESCRIPTION:
URL:https://panoramalangkawi.com/operation-calendar/normal-operation-169-2024-10-25/
CATEGORIES:Normal Operation
END:VEVENT
END:VCALENDAR