BEGIN:VCALENDAR
VERSION:2.0
PRODID:-//Official Website for Langkawi Cable Car - ECPv6.6.0//NONSGML v1.0//EN
CALSCALE:GREGORIAN
METHOD:PUBLISH
X-WR-CALNAME:Official Website for Langkawi Cable Car
X-ORIGINAL-URL:https://panoramalangkawi.com
X-WR-CALDESC:Events for Official Website for Langkawi Cable Car
REFRESH-INTERVAL;VALUE=DURATION:PT1H
X-Robots-Tag:noindex
X-PUBLISHED-TTL:PT1H
BEGIN:VTIMEZONE
TZID:Asia/Kuala_Lumpur
BEGIN:STANDARD
TZOFFSETFROM:+0800
TZOFFSETTO:+0800
TZNAME:+08
DTSTART:20240101T000000
END:STANDARD
END:VTIMEZONE
BEGIN:VEVENT
DTSTART;TZID=Asia/Kuala_Lumpur:20250131T090000
DTEND;TZID=Asia/Kuala_Lumpur:20250131T183000
DTSTAMP:20260424T185849
CREATED:20241014T063920Z
LAST-MODIFIED:20241029T020847Z
UID:133720-1738314000-1738348200@panoramalangkawi.com
SUMMARY:Normal Operation
DESCRIPTION:
URL:https://panoramalangkawi.com/operation-calendar/normal-operation-180/
CATEGORIES:Normal Operation
END:VEVENT
BEGIN:VEVENT
DTSTART;TZID=Asia/Kuala_Lumpur:20250128T093000
DTEND;TZID=Asia/Kuala_Lumpur:20250128T180000
DTSTAMP:20260424T185849
CREATED:20241029T021101Z
LAST-MODIFIED:20241029T021102Z
UID:133774-1738056600-1738087200@panoramalangkawi.com
SUMMARY:Normal Operation
DESCRIPTION:
URL:https://panoramalangkawi.com/operation-calendar/normal-operation-189/
CATEGORIES:Normal Operation
END:VEVENT
BEGIN:VEVENT
DTSTART;TZID=Asia/Kuala_Lumpur:20250116T090000
DTEND;TZID=Asia/Kuala_Lumpur:20250126T183000
DTSTAMP:20260424T185849
CREATED:20241013T021428Z
LAST-MODIFIED:20241014T063015Z
UID:133688-1737018000-1737916200@panoramalangkawi.com
SUMMARY:Normal Operation
DESCRIPTION:
URL:https://panoramalangkawi.com/operation-calendar/normal-operation-174/
CATEGORIES:Normal Operation
END:VEVENT
BEGIN:VEVENT
DTSTART;TZID=Asia/Kuala_Lumpur:20250109T090000
DTEND;TZID=Asia/Kuala_Lumpur:20250114T183000
DTSTAMP:20260424T185849
CREATED:20241013T021005Z
LAST-MODIFIED:20241013T021005Z
UID:133686-1736413200-1736879400@panoramalangkawi.com
SUMMARY:Normal Operation
DESCRIPTION:
URL:https://panoramalangkawi.com/operation-calendar/normal-operation-173/
CATEGORIES:Normal Operation
END:VEVENT
BEGIN:VEVENT
DTSTART;TZID=Asia/Kuala_Lumpur:20250102T090000
DTEND;TZID=Asia/Kuala_Lumpur:20250107T183000
DTSTAMP:20260424T185849
CREATED:20241013T020501Z
LAST-MODIFIED:20241013T020913Z
UID:133680-1735808400-1736274600@panoramalangkawi.com
SUMMARY:Normal Operation
DESCRIPTION:
URL:https://panoramalangkawi.com/operation-calendar/normal-operation-172/
CATEGORIES:Normal Operation
END:VEVENT
BEGIN:VEVENT
DTSTART;TZID=Asia/Kuala_Lumpur:20241231T093000
DTEND;TZID=Asia/Kuala_Lumpur:20241231T180000
DTSTAMP:20260424T185849
CREATED:20231228T014614Z
LAST-MODIFIED:20241013T020700Z
UID:133051-1735637400-1735668000@panoramalangkawi.com
SUMMARY:Normal Operation
DESCRIPTION:
URL:https://panoramalangkawi.com/operation-calendar/normal-operation-171-2024-12-31/
CATEGORIES:Normal Operation
END:VEVENT
BEGIN:VEVENT
DTSTART;TZID=Asia/Kuala_Lumpur:20241230T093000
DTEND;TZID=Asia/Kuala_Lumpur:20241230T180000
DTSTAMP:20260424T185849
CREATED:20231228T014614Z
LAST-MODIFIED:20231228T014614Z
UID:133050-1735551000-1735581600@panoramalangkawi.com
SUMMARY:Normal Operation
DESCRIPTION:
URL:https://panoramalangkawi.com/operation-calendar/normal-operation-171-2024-12-30/
CATEGORIES:Normal Operation
END:VEVENT
BEGIN:VEVENT
DTSTART;TZID=Asia/Kuala_Lumpur:20241229T093000
DTEND;TZID=Asia/Kuala_Lumpur:20241229T180000
DTSTAMP:20260424T185849
CREATED:20231228T014614Z
LAST-MODIFIED:20231228T014614Z
UID:133049-1735464600-1735495200@panoramalangkawi.com
SUMMARY:Normal Operation
DESCRIPTION:
URL:https://panoramalangkawi.com/operation-calendar/normal-operation-171-2024-12-29/
CATEGORIES:Normal Operation
END:VEVENT
BEGIN:VEVENT
DTSTART;TZID=Asia/Kuala_Lumpur:20241228T093000
DTEND;TZID=Asia/Kuala_Lumpur:20241228T180000
DTSTAMP:20260424T185849
CREATED:20231228T014614Z
LAST-MODIFIED:20231228T014614Z
UID:133048-1735378200-1735408800@panoramalangkawi.com
SUMMARY:Normal Operation
DESCRIPTION:
URL:https://panoramalangkawi.com/operation-calendar/normal-operation-171-2024-12-28/
CATEGORIES:Normal Operation
END:VEVENT
BEGIN:VEVENT
DTSTART;TZID=Asia/Kuala_Lumpur:20241227T093000
DTEND;TZID=Asia/Kuala_Lumpur:20241227T180000
DTSTAMP:20260424T185849
CREATED:20231228T014614Z
LAST-MODIFIED:20231228T014614Z
UID:133047-1735291800-1735322400@panoramalangkawi.com
SUMMARY:Normal Operation
DESCRIPTION:
URL:https://panoramalangkawi.com/operation-calendar/normal-operation-171-2024-12-27/
CATEGORIES:Normal Operation
END:VEVENT
BEGIN:VEVENT
DTSTART;TZID=Asia/Kuala_Lumpur:20241226T093000
DTEND;TZID=Asia/Kuala_Lumpur:20241226T180000
DTSTAMP:20260424T185849
CREATED:20231228T014614Z
LAST-MODIFIED:20231228T014614Z
UID:133046-1735205400-1735236000@panoramalangkawi.com
SUMMARY:Normal Operation
DESCRIPTION:
URL:https://panoramalangkawi.com/operation-calendar/normal-operation-171-2024-12-26/
CATEGORIES:Normal Operation
END:VEVENT
BEGIN:VEVENT
DTSTART;TZID=Asia/Kuala_Lumpur:20241224T093000
DTEND;TZID=Asia/Kuala_Lumpur:20241224T180000
DTSTAMP:20260424T185849
CREATED:20231228T014614Z
LAST-MODIFIED:20231228T014614Z
UID:133045-1735032600-1735063200@panoramalangkawi.com
SUMMARY:Normal Operation
DESCRIPTION:
URL:https://panoramalangkawi.com/operation-calendar/normal-operation-171-2024-12-24/
CATEGORIES:Normal Operation
END:VEVENT
BEGIN:VEVENT
DTSTART;TZID=Asia/Kuala_Lumpur:20241223T093000
DTEND;TZID=Asia/Kuala_Lumpur:20241223T180000
DTSTAMP:20260424T185849
CREATED:20231228T014614Z
LAST-MODIFIED:20231228T014614Z
UID:133044-1734946200-1734976800@panoramalangkawi.com
SUMMARY:Normal Operation
DESCRIPTION:
URL:https://panoramalangkawi.com/operation-calendar/normal-operation-171-2024-12-23/
CATEGORIES:Normal Operation
END:VEVENT
BEGIN:VEVENT
DTSTART;TZID=Asia/Kuala_Lumpur:20241222T093000
DTEND;TZID=Asia/Kuala_Lumpur:20241222T180000
DTSTAMP:20260424T185849
CREATED:20231228T014614Z
LAST-MODIFIED:20231228T014614Z
UID:133043-1734859800-1734890400@panoramalangkawi.com
SUMMARY:Normal Operation
DESCRIPTION:
URL:https://panoramalangkawi.com/operation-calendar/normal-operation-171-2024-12-22/
CATEGORIES:Normal Operation
END:VEVENT
BEGIN:VEVENT
DTSTART;TZID=Asia/Kuala_Lumpur:20241221T093000
DTEND;TZID=Asia/Kuala_Lumpur:20241221T180000
DTSTAMP:20260424T185849
CREATED:20231228T014614Z
LAST-MODIFIED:20231228T014614Z
UID:133042-1734773400-1734804000@panoramalangkawi.com
SUMMARY:Normal Operation
DESCRIPTION:
URL:https://panoramalangkawi.com/operation-calendar/normal-operation-171-2024-12-21/
CATEGORIES:Normal Operation
END:VEVENT
BEGIN:VEVENT
DTSTART;TZID=Asia/Kuala_Lumpur:20241220T093000
DTEND;TZID=Asia/Kuala_Lumpur:20241220T180000
DTSTAMP:20260424T185849
CREATED:20231228T014614Z
LAST-MODIFIED:20231228T014614Z
UID:133041-1734687000-1734717600@panoramalangkawi.com
SUMMARY:Normal Operation
DESCRIPTION:
URL:https://panoramalangkawi.com/operation-calendar/normal-operation-171-2024-12-20/
CATEGORIES:Normal Operation
END:VEVENT
BEGIN:VEVENT
DTSTART;TZID=Asia/Kuala_Lumpur:20241219T093000
DTEND;TZID=Asia/Kuala_Lumpur:20241219T180000
DTSTAMP:20260424T185849
CREATED:20231228T014614Z
LAST-MODIFIED:20231228T014614Z
UID:133040-1734600600-1734631200@panoramalangkawi.com
SUMMARY:Normal Operation
DESCRIPTION:
URL:https://panoramalangkawi.com/operation-calendar/normal-operation-171-2024-12-19/
CATEGORIES:Normal Operation
END:VEVENT
BEGIN:VEVENT
DTSTART;TZID=Asia/Kuala_Lumpur:20241217T093000
DTEND;TZID=Asia/Kuala_Lumpur:20241217T180000
DTSTAMP:20260424T185849
CREATED:20231228T014614Z
LAST-MODIFIED:20231228T014614Z
UID:133039-1734427800-1734458400@panoramalangkawi.com
SUMMARY:Normal Operation
DESCRIPTION:
URL:https://panoramalangkawi.com/operation-calendar/normal-operation-171-2024-12-17/
CATEGORIES:Normal Operation
END:VEVENT
BEGIN:VEVENT
DTSTART;TZID=Asia/Kuala_Lumpur:20241216T093000
DTEND;TZID=Asia/Kuala_Lumpur:20241216T180000
DTSTAMP:20260424T185849
CREATED:20231228T014614Z
LAST-MODIFIED:20231228T014614Z
UID:133038-1734341400-1734372000@panoramalangkawi.com
SUMMARY:Normal Operation
DESCRIPTION:
URL:https://panoramalangkawi.com/operation-calendar/normal-operation-171-2024-12-16/
CATEGORIES:Normal Operation
END:VEVENT
BEGIN:VEVENT
DTSTART;TZID=Asia/Kuala_Lumpur:20241215T093000
DTEND;TZID=Asia/Kuala_Lumpur:20241215T180000
DTSTAMP:20260424T185849
CREATED:20231228T014614Z
LAST-MODIFIED:20231228T014614Z
UID:133037-1734255000-1734285600@panoramalangkawi.com
SUMMARY:Normal Operation
DESCRIPTION:
URL:https://panoramalangkawi.com/operation-calendar/normal-operation-171-2024-12-15/
CATEGORIES:Normal Operation
END:VEVENT
BEGIN:VEVENT
DTSTART;TZID=Asia/Kuala_Lumpur:20241214T093000
DTEND;TZID=Asia/Kuala_Lumpur:20241214T180000
DTSTAMP:20260424T185849
CREATED:20231228T014614Z
LAST-MODIFIED:20231228T014614Z
UID:133036-1734168600-1734199200@panoramalangkawi.com
SUMMARY:Normal Operation
DESCRIPTION:
URL:https://panoramalangkawi.com/operation-calendar/normal-operation-171-2024-12-14/
CATEGORIES:Normal Operation
END:VEVENT
BEGIN:VEVENT
DTSTART;TZID=Asia/Kuala_Lumpur:20241213T093000
DTEND;TZID=Asia/Kuala_Lumpur:20241213T180000
DTSTAMP:20260424T185849
CREATED:20231228T014614Z
LAST-MODIFIED:20231228T014614Z
UID:133035-1734082200-1734112800@panoramalangkawi.com
SUMMARY:Normal Operation
DESCRIPTION:
URL:https://panoramalangkawi.com/operation-calendar/normal-operation-171-2024-12-13/
CATEGORIES:Normal Operation
END:VEVENT
BEGIN:VEVENT
DTSTART;TZID=Asia/Kuala_Lumpur:20241212T093000
DTEND;TZID=Asia/Kuala_Lumpur:20241212T180000
DTSTAMP:20260424T185849
CREATED:20231228T014614Z
LAST-MODIFIED:20231228T014614Z
UID:133034-1733995800-1734026400@panoramalangkawi.com
SUMMARY:Normal Operation
DESCRIPTION:
URL:https://panoramalangkawi.com/operation-calendar/normal-operation-171-2024-12-12/
CATEGORIES:Normal Operation
END:VEVENT
BEGIN:VEVENT
DTSTART;TZID=Asia/Kuala_Lumpur:20241210T093000
DTEND;TZID=Asia/Kuala_Lumpur:20241210T180000
DTSTAMP:20260424T185849
CREATED:20231228T014614Z
LAST-MODIFIED:20231228T014614Z
UID:133033-1733823000-1733853600@panoramalangkawi.com
SUMMARY:Normal Operation
DESCRIPTION:
URL:https://panoramalangkawi.com/operation-calendar/normal-operation-171-2024-12-10/
CATEGORIES:Normal Operation
END:VEVENT
BEGIN:VEVENT
DTSTART;TZID=Asia/Kuala_Lumpur:20241209T093000
DTEND;TZID=Asia/Kuala_Lumpur:20241209T180000
DTSTAMP:20260424T185849
CREATED:20231228T014614Z
LAST-MODIFIED:20231228T014614Z
UID:133032-1733736600-1733767200@panoramalangkawi.com
SUMMARY:Normal Operation
DESCRIPTION:
URL:https://panoramalangkawi.com/operation-calendar/normal-operation-171-2024-12-09/
CATEGORIES:Normal Operation
END:VEVENT
BEGIN:VEVENT
DTSTART;TZID=Asia/Kuala_Lumpur:20241208T093000
DTEND;TZID=Asia/Kuala_Lumpur:20241208T180000
DTSTAMP:20260424T185849
CREATED:20231228T014614Z
LAST-MODIFIED:20231228T014614Z
UID:133031-1733650200-1733680800@panoramalangkawi.com
SUMMARY:Normal Operation
DESCRIPTION:
URL:https://panoramalangkawi.com/operation-calendar/normal-operation-171-2024-12-08/
CATEGORIES:Normal Operation
END:VEVENT
BEGIN:VEVENT
DTSTART;TZID=Asia/Kuala_Lumpur:20241207T093000
DTEND;TZID=Asia/Kuala_Lumpur:20241207T180000
DTSTAMP:20260424T185849
CREATED:20231228T014614Z
LAST-MODIFIED:20231228T014614Z
UID:133030-1733563800-1733594400@panoramalangkawi.com
SUMMARY:Normal Operation
DESCRIPTION:
URL:https://panoramalangkawi.com/operation-calendar/normal-operation-171-2024-12-07/
CATEGORIES:Normal Operation
END:VEVENT
BEGIN:VEVENT
DTSTART;TZID=Asia/Kuala_Lumpur:20241206T093000
DTEND;TZID=Asia/Kuala_Lumpur:20241206T180000
DTSTAMP:20260424T185849
CREATED:20231228T014614Z
LAST-MODIFIED:20231228T014614Z
UID:133029-1733477400-1733508000@panoramalangkawi.com
SUMMARY:Normal Operation
DESCRIPTION:
URL:https://panoramalangkawi.com/operation-calendar/normal-operation-171-2024-12-06/
CATEGORIES:Normal Operation
END:VEVENT
BEGIN:VEVENT
DTSTART;TZID=Asia/Kuala_Lumpur:20241205T093000
DTEND;TZID=Asia/Kuala_Lumpur:20241205T180000
DTSTAMP:20260424T185849
CREATED:20231228T014614Z
LAST-MODIFIED:20231228T014614Z
UID:133028-1733391000-1733421600@panoramalangkawi.com
SUMMARY:Normal Operation
DESCRIPTION:
URL:https://panoramalangkawi.com/operation-calendar/normal-operation-171-2024-12-05/
CATEGORIES:Normal Operation
END:VEVENT
BEGIN:VEVENT
DTSTART;TZID=Asia/Kuala_Lumpur:20241204T093000
DTEND;TZID=Asia/Kuala_Lumpur:20241204T180000
DTSTAMP:20260424T185849
CREATED:20231228T014614Z
LAST-MODIFIED:20231228T014614Z
UID:133027-1733304600-1733335200@panoramalangkawi.com
SUMMARY:Normal Operation
DESCRIPTION:
URL:https://panoramalangkawi.com/operation-calendar/normal-operation-171-2024-12-04/
CATEGORIES:Normal Operation
END:VEVENT
END:VCALENDAR