BEGIN:VCALENDAR
VERSION:2.0
PRODID:-//Official Website for Langkawi Cable Car - ECPv6.6.0//NONSGML v1.0//EN
CALSCALE:GREGORIAN
METHOD:PUBLISH
X-ORIGINAL-URL:https://panoramalangkawi.com
X-WR-CALDESC:Events for Official Website for Langkawi Cable Car
REFRESH-INTERVAL;VALUE=DURATION:PT1H
X-Robots-Tag:noindex
X-PUBLISHED-TTL:PT1H
BEGIN:VTIMEZONE
TZID:Asia/Kuala_Lumpur
BEGIN:STANDARD
TZOFFSETFROM:+0800
TZOFFSETTO:+0800
TZNAME:+08
DTSTART:20220101T000000
END:STANDARD
END:VTIMEZONE
BEGIN:VEVENT
DTSTART;TZID=Asia/Kuala_Lumpur:20220913T093000
DTEND;TZID=Asia/Kuala_Lumpur:20220913T180000
DTSTAMP:20260426T094010
CREATED:20211222T084010Z
LAST-MODIFIED:20211222T084010Z
UID:126934-1663061400-1663092000@panoramalangkawi.com
SUMMARY:Normal Operation
DESCRIPTION:
URL:https://panoramalangkawi.com/operation-calendar/normal-operation-99-2022-09-13/
CATEGORIES:Normal Operation
END:VEVENT
BEGIN:VEVENT
DTSTART;TZID=Asia/Kuala_Lumpur:20220912T093000
DTEND;TZID=Asia/Kuala_Lumpur:20220912T180000
DTSTAMP:20260426T094010
CREATED:20211222T084010Z
LAST-MODIFIED:20211222T084010Z
UID:126933-1662975000-1663005600@panoramalangkawi.com
SUMMARY:Normal Operation
DESCRIPTION:
URL:https://panoramalangkawi.com/operation-calendar/normal-operation-99-2022-09-12/
CATEGORIES:Normal Operation
END:VEVENT
BEGIN:VEVENT
DTSTART;TZID=Asia/Kuala_Lumpur:20220911T093000
DTEND;TZID=Asia/Kuala_Lumpur:20220911T180000
DTSTAMP:20260426T094010
CREATED:20211222T084010Z
LAST-MODIFIED:20211222T084010Z
UID:126932-1662888600-1662919200@panoramalangkawi.com
SUMMARY:Normal Operation
DESCRIPTION:
URL:https://panoramalangkawi.com/operation-calendar/normal-operation-99-2022-09-11/
CATEGORIES:Normal Operation
END:VEVENT
BEGIN:VEVENT
DTSTART;TZID=Asia/Kuala_Lumpur:20220910T093000
DTEND;TZID=Asia/Kuala_Lumpur:20220910T180000
DTSTAMP:20260426T094010
CREATED:20211222T084010Z
LAST-MODIFIED:20211222T084010Z
UID:126931-1662802200-1662832800@panoramalangkawi.com
SUMMARY:Normal Operation
DESCRIPTION:
URL:https://panoramalangkawi.com/operation-calendar/normal-operation-99-2022-09-10/
CATEGORIES:Normal Operation
END:VEVENT
BEGIN:VEVENT
DTSTART;TZID=Asia/Kuala_Lumpur:20220909T093000
DTEND;TZID=Asia/Kuala_Lumpur:20220909T180000
DTSTAMP:20260426T094010
CREATED:20211222T084010Z
LAST-MODIFIED:20211222T084010Z
UID:126930-1662715800-1662746400@panoramalangkawi.com
SUMMARY:Normal Operation
DESCRIPTION:
URL:https://panoramalangkawi.com/operation-calendar/normal-operation-99-2022-09-09/
CATEGORIES:Normal Operation
END:VEVENT
BEGIN:VEVENT
DTSTART;TZID=Asia/Kuala_Lumpur:20220908T093000
DTEND;TZID=Asia/Kuala_Lumpur:20220908T180000
DTSTAMP:20260426T094010
CREATED:20211222T084010Z
LAST-MODIFIED:20211222T084010Z
UID:126929-1662629400-1662660000@panoramalangkawi.com
SUMMARY:Normal Operation
DESCRIPTION:
URL:https://panoramalangkawi.com/operation-calendar/normal-operation-99-2022-09-08/
CATEGORIES:Normal Operation
END:VEVENT
BEGIN:VEVENT
DTSTART;TZID=Asia/Kuala_Lumpur:20220907T093000
DTEND;TZID=Asia/Kuala_Lumpur:20220907T180000
DTSTAMP:20260426T094010
CREATED:20211222T084010Z
LAST-MODIFIED:20211222T084010Z
UID:126928-1662543000-1662573600@panoramalangkawi.com
SUMMARY:Normal Operation
DESCRIPTION:
URL:https://panoramalangkawi.com/operation-calendar/normal-operation-99-2022-09-07/
CATEGORIES:Normal Operation
END:VEVENT
BEGIN:VEVENT
DTSTART;TZID=Asia/Kuala_Lumpur:20220906T093000
DTEND;TZID=Asia/Kuala_Lumpur:20220906T180000
DTSTAMP:20260426T094010
CREATED:20211222T084010Z
LAST-MODIFIED:20211222T084010Z
UID:126927-1662456600-1662487200@panoramalangkawi.com
SUMMARY:Normal Operation
DESCRIPTION:
URL:https://panoramalangkawi.com/operation-calendar/normal-operation-99-2022-09-06/
CATEGORIES:Normal Operation
END:VEVENT
BEGIN:VEVENT
DTSTART;TZID=Asia/Kuala_Lumpur:20220905T093000
DTEND;TZID=Asia/Kuala_Lumpur:20220905T180000
DTSTAMP:20260426T094010
CREATED:20211222T084010Z
LAST-MODIFIED:20211222T084010Z
UID:126926-1662370200-1662400800@panoramalangkawi.com
SUMMARY:Normal Operation
DESCRIPTION:
URL:https://panoramalangkawi.com/operation-calendar/normal-operation-99-2022-09-05/
CATEGORIES:Normal Operation
END:VEVENT
BEGIN:VEVENT
DTSTART;TZID=Asia/Kuala_Lumpur:20220904T093000
DTEND;TZID=Asia/Kuala_Lumpur:20220904T180000
DTSTAMP:20260426T094010
CREATED:20211222T084010Z
LAST-MODIFIED:20211222T084010Z
UID:126925-1662283800-1662314400@panoramalangkawi.com
SUMMARY:Normal Operation
DESCRIPTION:
URL:https://panoramalangkawi.com/operation-calendar/normal-operation-99-2022-09-04/
CATEGORIES:Normal Operation
END:VEVENT
BEGIN:VEVENT
DTSTART;TZID=Asia/Kuala_Lumpur:20220903T093000
DTEND;TZID=Asia/Kuala_Lumpur:20220903T180000
DTSTAMP:20260426T094010
CREATED:20211222T084010Z
LAST-MODIFIED:20211222T084010Z
UID:126924-1662197400-1662228000@panoramalangkawi.com
SUMMARY:Normal Operation
DESCRIPTION:
URL:https://panoramalangkawi.com/operation-calendar/normal-operation-99-2022-09-03/
CATEGORIES:Normal Operation
END:VEVENT
BEGIN:VEVENT
DTSTART;TZID=Asia/Kuala_Lumpur:20220902T093000
DTEND;TZID=Asia/Kuala_Lumpur:20220902T180000
DTSTAMP:20260426T094010
CREATED:20211222T084010Z
LAST-MODIFIED:20211222T084010Z
UID:126923-1662111000-1662141600@panoramalangkawi.com
SUMMARY:Normal Operation
DESCRIPTION:
URL:https://panoramalangkawi.com/operation-calendar/normal-operation-99-2022-09-02/
CATEGORIES:Normal Operation
END:VEVENT
BEGIN:VEVENT
DTSTART;TZID=Asia/Kuala_Lumpur:20220901T093000
DTEND;TZID=Asia/Kuala_Lumpur:20220901T180000
DTSTAMP:20260426T094010
CREATED:20211222T084010Z
LAST-MODIFIED:20211222T084011Z
UID:126921-1662024600-1662055200@panoramalangkawi.com
SUMMARY:Normal Operation
DESCRIPTION:
URL:https://panoramalangkawi.com/operation-calendar/normal-operation-99/
CATEGORIES:Normal Operation
END:VEVENT
BEGIN:VEVENT
DTSTART;TZID=Asia/Kuala_Lumpur:20220830T093000
DTEND;TZID=Asia/Kuala_Lumpur:20220830T180000
DTSTAMP:20260426T094010
CREATED:20211222T083617Z
LAST-MODIFIED:20211222T083617Z
UID:126918-1661851800-1661882400@panoramalangkawi.com
SUMMARY:Normal Operation
DESCRIPTION:
URL:https://panoramalangkawi.com/operation-calendar/normal-operation-98-2022-08-30/
CATEGORIES:Normal Operation
END:VEVENT
BEGIN:VEVENT
DTSTART;TZID=Asia/Kuala_Lumpur:20220829T093000
DTEND;TZID=Asia/Kuala_Lumpur:20220829T180000
DTSTAMP:20260426T094010
CREATED:20211222T083617Z
LAST-MODIFIED:20211222T083617Z
UID:126917-1661765400-1661796000@panoramalangkawi.com
SUMMARY:Normal Operation
DESCRIPTION:
URL:https://panoramalangkawi.com/operation-calendar/normal-operation-98-2022-08-29/
CATEGORIES:Normal Operation
END:VEVENT
BEGIN:VEVENT
DTSTART;TZID=Asia/Kuala_Lumpur:20220828T093000
DTEND;TZID=Asia/Kuala_Lumpur:20220828T180000
DTSTAMP:20260426T094010
CREATED:20211222T083617Z
LAST-MODIFIED:20211222T083617Z
UID:126916-1661679000-1661709600@panoramalangkawi.com
SUMMARY:Normal Operation
DESCRIPTION:
URL:https://panoramalangkawi.com/operation-calendar/normal-operation-98-2022-08-28/
CATEGORIES:Normal Operation
END:VEVENT
BEGIN:VEVENT
DTSTART;TZID=Asia/Kuala_Lumpur:20220827T093000
DTEND;TZID=Asia/Kuala_Lumpur:20220827T180000
DTSTAMP:20260426T094010
CREATED:20211222T083617Z
LAST-MODIFIED:20211222T083617Z
UID:126915-1661592600-1661623200@panoramalangkawi.com
SUMMARY:Normal Operation
DESCRIPTION:
URL:https://panoramalangkawi.com/operation-calendar/normal-operation-98-2022-08-27/
CATEGORIES:Normal Operation
END:VEVENT
BEGIN:VEVENT
DTSTART;TZID=Asia/Kuala_Lumpur:20220826T093000
DTEND;TZID=Asia/Kuala_Lumpur:20220826T180000
DTSTAMP:20260426T094010
CREATED:20211222T083617Z
LAST-MODIFIED:20211222T083617Z
UID:126914-1661506200-1661536800@panoramalangkawi.com
SUMMARY:Normal Operation
DESCRIPTION:
URL:https://panoramalangkawi.com/operation-calendar/normal-operation-98-2022-08-26/
CATEGORIES:Normal Operation
END:VEVENT
BEGIN:VEVENT
DTSTART;TZID=Asia/Kuala_Lumpur:20220825T093000
DTEND;TZID=Asia/Kuala_Lumpur:20220825T180000
DTSTAMP:20260426T094010
CREATED:20211222T083617Z
LAST-MODIFIED:20211222T083617Z
UID:126913-1661419800-1661450400@panoramalangkawi.com
SUMMARY:Normal Operation
DESCRIPTION:
URL:https://panoramalangkawi.com/operation-calendar/normal-operation-98-2022-08-25/
CATEGORIES:Normal Operation
END:VEVENT
BEGIN:VEVENT
DTSTART;TZID=Asia/Kuala_Lumpur:20220824T093000
DTEND;TZID=Asia/Kuala_Lumpur:20220824T180000
DTSTAMP:20260426T094010
CREATED:20211222T083617Z
LAST-MODIFIED:20211222T083617Z
UID:126912-1661333400-1661364000@panoramalangkawi.com
SUMMARY:Normal Operation
DESCRIPTION:
URL:https://panoramalangkawi.com/operation-calendar/normal-operation-98-2022-08-24/
CATEGORIES:Normal Operation
END:VEVENT
BEGIN:VEVENT
DTSTART;TZID=Asia/Kuala_Lumpur:20220823T093000
DTEND;TZID=Asia/Kuala_Lumpur:20220823T180000
DTSTAMP:20260426T094010
CREATED:20211222T083617Z
LAST-MODIFIED:20211222T083617Z
UID:126911-1661247000-1661277600@panoramalangkawi.com
SUMMARY:Normal Operation
DESCRIPTION:
URL:https://panoramalangkawi.com/operation-calendar/normal-operation-98-2022-08-23/
CATEGORIES:Normal Operation
END:VEVENT
BEGIN:VEVENT
DTSTART;TZID=Asia/Kuala_Lumpur:20220822T093000
DTEND;TZID=Asia/Kuala_Lumpur:20220822T180000
DTSTAMP:20260426T094010
CREATED:20211222T083617Z
LAST-MODIFIED:20211222T083617Z
UID:126910-1661160600-1661191200@panoramalangkawi.com
SUMMARY:Normal Operation
DESCRIPTION:
URL:https://panoramalangkawi.com/operation-calendar/normal-operation-98-2022-08-22/
CATEGORIES:Normal Operation
END:VEVENT
BEGIN:VEVENT
DTSTART;TZID=Asia/Kuala_Lumpur:20220821T093000
DTEND;TZID=Asia/Kuala_Lumpur:20220821T180000
DTSTAMP:20260426T094010
CREATED:20211222T083617Z
LAST-MODIFIED:20211222T083618Z
UID:126908-1661074200-1661104800@panoramalangkawi.com
SUMMARY:Normal Operation
DESCRIPTION:
URL:https://panoramalangkawi.com/operation-calendar/normal-operation-98/
CATEGORIES:Normal Operation
END:VEVENT
BEGIN:VEVENT
DTSTART;TZID=Asia/Kuala_Lumpur:20220701T093000
DTEND;TZID=Asia/Kuala_Lumpur:20220701T180000
DTSTAMP:20260426T094010
CREATED:20211222T063137Z
LAST-MODIFIED:20211222T063143Z
UID:126705-1656667800-1656698400@panoramalangkawi.com
SUMMARY:Normal Operation
DESCRIPTION:
URL:https://panoramalangkawi.com/operation-calendar/normal-operation-97/
CATEGORIES:Normal Operation
END:VEVENT
BEGIN:VEVENT
DTSTART;TZID=Asia/Kuala_Lumpur:20220601T093000
DTEND;TZID=Asia/Kuala_Lumpur:20220601T180000
DTSTAMP:20260426T094010
CREATED:20211222T062456Z
LAST-MODIFIED:20211222T062457Z
UID:126671-1654075800-1654106400@panoramalangkawi.com
SUMMARY:Normal Operation
DESCRIPTION:
URL:https://panoramalangkawi.com/operation-calendar/normal-operation-96/
CATEGORIES:Normal Operation
END:VEVENT
BEGIN:VEVENT
DTSTART;TZID=Asia/Kuala_Lumpur:20220503T093000
DTEND;TZID=Asia/Kuala_Lumpur:20220503T180000
DTSTAMP:20260426T094010
CREATED:20211222T061316Z
LAST-MODIFIED:20220501T123937Z
UID:126618-1651570200-1651600800@panoramalangkawi.com
SUMMARY:Normal Operation
DESCRIPTION:
URL:https://panoramalangkawi.com/operation-calendar/normal-operation-95/
CATEGORIES:Normal Operation
END:VEVENT
BEGIN:VEVENT
DTSTART;TZID=Asia/Kuala_Lumpur:20220401T093000
DTEND;TZID=Asia/Kuala_Lumpur:20220401T180000
DTSTAMP:20260426T094010
CREATED:20211221T023051Z
LAST-MODIFIED:20220401T075824Z
UID:126575-1648805400-1648836000@panoramalangkawi.com
SUMMARY:Normal Operation
DESCRIPTION:
URL:https://panoramalangkawi.com/operation-calendar/normal-operation-94/
CATEGORIES:Normal Operation
END:VEVENT
BEGIN:VEVENT
DTSTART;TZID=Asia/Kuala_Lumpur:20220302T093000
DTEND;TZID=Asia/Kuala_Lumpur:20220302T180000
DTSTAMP:20260426T094010
CREATED:20211221T014003Z
LAST-MODIFIED:20211221T014004Z
UID:126542-1646213400-1646244000@panoramalangkawi.com
SUMMARY:Normal Operation
DESCRIPTION:
URL:https://panoramalangkawi.com/operation-calendar/normal-operation-93/
CATEGORIES:Normal Operation
END:VEVENT
BEGIN:VEVENT
DTSTART;TZID=Asia/Kuala_Lumpur:20220204T093000
DTEND;TZID=Asia/Kuala_Lumpur:20220204T180000
DTSTAMP:20260426T094010
CREATED:20211221T013355Z
LAST-MODIFIED:20211221T013513Z
UID:126493-1643967000-1643997600@panoramalangkawi.com
SUMMARY:Normal Operation
DESCRIPTION:
URL:https://panoramalangkawi.com/operation-calendar/normal-operation-92/
CATEGORIES:Normal Operation
END:VEVENT
BEGIN:VEVENT
DTSTART;TZID=Asia/Kuala_Lumpur:20220101T093000
DTEND;TZID=Asia/Kuala_Lumpur:20220101T180000
DTSTAMP:20260426T094010
CREATED:20211221T011856Z
LAST-MODIFIED:20211221T011857Z
UID:126454-1641029400-1641060000@panoramalangkawi.com
SUMMARY:Normal Operation
DESCRIPTION:
URL:https://panoramalangkawi.com/operation-calendar/normal-operation-91/
CATEGORIES:Normal Operation
END:VEVENT
END:VCALENDAR