BEGIN:VCALENDAR
VERSION:2.0
PRODID:-//Official Website for Langkawi Cable Car - ECPv6.6.0//NONSGML v1.0//EN
CALSCALE:GREGORIAN
METHOD:PUBLISH
X-ORIGINAL-URL:https://panoramalangkawi.com
X-WR-CALDESC:Events for Official Website for Langkawi Cable Car
REFRESH-INTERVAL;VALUE=DURATION:PT1H
X-Robots-Tag:noindex
X-PUBLISHED-TTL:PT1H
BEGIN:VTIMEZONE
TZID:Asia/Kuala_Lumpur
BEGIN:STANDARD
TZOFFSETFROM:+0800
TZOFFSETTO:+0800
TZNAME:+08
DTSTART:20220101T000000
END:STANDARD
END:VTIMEZONE
BEGIN:VEVENT
DTSTART;TZID=Asia/Kuala_Lumpur:20221125T093000
DTEND;TZID=Asia/Kuala_Lumpur:20221125T180000
DTSTAMP:20260426T023053
CREATED:20211223T021313Z
LAST-MODIFIED:20211223T021614Z
UID:127013-1669368600-1669399200@panoramalangkawi.com
SUMMARY:Normal Operation
DESCRIPTION:
URL:https://panoramalangkawi.com/operation-calendar/normal-operation-101-2022-11-25/
CATEGORIES:Normal Operation
END:VEVENT
BEGIN:VEVENT
DTSTART;TZID=Asia/Kuala_Lumpur:20221124T093000
DTEND;TZID=Asia/Kuala_Lumpur:20221124T180000
DTSTAMP:20260426T023053
CREATED:20211223T021313Z
LAST-MODIFIED:20211223T021614Z
UID:127012-1669282200-1669312800@panoramalangkawi.com
SUMMARY:Normal Operation
DESCRIPTION:
URL:https://panoramalangkawi.com/operation-calendar/normal-operation-101-2022-11-24/
CATEGORIES:Normal Operation
END:VEVENT
BEGIN:VEVENT
DTSTART;TZID=Asia/Kuala_Lumpur:20221122T093000
DTEND;TZID=Asia/Kuala_Lumpur:20221122T180000
DTSTAMP:20260426T023053
CREATED:20211223T021313Z
LAST-MODIFIED:20211223T021612Z
UID:127011-1669109400-1669140000@panoramalangkawi.com
SUMMARY:Normal Operation
DESCRIPTION:
URL:https://panoramalangkawi.com/operation-calendar/normal-operation-101-2022-11-22/
CATEGORIES:Normal Operation
END:VEVENT
BEGIN:VEVENT
DTSTART;TZID=Asia/Kuala_Lumpur:20221121T093000
DTEND;TZID=Asia/Kuala_Lumpur:20221121T180000
DTSTAMP:20260426T023053
CREATED:20211223T021313Z
LAST-MODIFIED:20211223T021612Z
UID:127010-1669023000-1669053600@panoramalangkawi.com
SUMMARY:Normal Operation
DESCRIPTION:
URL:https://panoramalangkawi.com/operation-calendar/normal-operation-101-2022-11-21/
CATEGORIES:Normal Operation
END:VEVENT
BEGIN:VEVENT
DTSTART;TZID=Asia/Kuala_Lumpur:20221120T093000
DTEND;TZID=Asia/Kuala_Lumpur:20221120T180000
DTSTAMP:20260426T023053
CREATED:20211223T021313Z
LAST-MODIFIED:20211223T021612Z
UID:127009-1668936600-1668967200@panoramalangkawi.com
SUMMARY:Normal Operation
DESCRIPTION:
URL:https://panoramalangkawi.com/operation-calendar/normal-operation-101-2022-11-20/
CATEGORIES:Normal Operation
END:VEVENT
BEGIN:VEVENT
DTSTART;TZID=Asia/Kuala_Lumpur:20221119T093000
DTEND;TZID=Asia/Kuala_Lumpur:20221119T180000
DTSTAMP:20260426T023053
CREATED:20211223T021313Z
LAST-MODIFIED:20211223T021612Z
UID:127008-1668850200-1668880800@panoramalangkawi.com
SUMMARY:Normal Operation
DESCRIPTION:
URL:https://panoramalangkawi.com/operation-calendar/normal-operation-101-2022-11-19/
CATEGORIES:Normal Operation
END:VEVENT
BEGIN:VEVENT
DTSTART;TZID=Asia/Kuala_Lumpur:20221118T093000
DTEND;TZID=Asia/Kuala_Lumpur:20221118T180000
DTSTAMP:20260426T023053
CREATED:20211223T021313Z
LAST-MODIFIED:20211223T021612Z
UID:127007-1668763800-1668794400@panoramalangkawi.com
SUMMARY:Normal Operation
DESCRIPTION:
URL:https://panoramalangkawi.com/operation-calendar/normal-operation-101-2022-11-18/
CATEGORIES:Normal Operation
END:VEVENT
BEGIN:VEVENT
DTSTART;TZID=Asia/Kuala_Lumpur:20221117T093000
DTEND;TZID=Asia/Kuala_Lumpur:20221117T180000
DTSTAMP:20260426T023053
CREATED:20211223T021313Z
LAST-MODIFIED:20211223T021612Z
UID:127006-1668677400-1668708000@panoramalangkawi.com
SUMMARY:Normal Operation
DESCRIPTION:
URL:https://panoramalangkawi.com/operation-calendar/normal-operation-101-2022-11-17/
CATEGORIES:Normal Operation
END:VEVENT
BEGIN:VEVENT
DTSTART;TZID=Asia/Kuala_Lumpur:20221115T093000
DTEND;TZID=Asia/Kuala_Lumpur:20221115T180000
DTSTAMP:20260426T023053
CREATED:20211223T021313Z
LAST-MODIFIED:20211223T021612Z
UID:127005-1668504600-1668535200@panoramalangkawi.com
SUMMARY:Normal Operation
DESCRIPTION:
URL:https://panoramalangkawi.com/operation-calendar/normal-operation-101-2022-11-15/
CATEGORIES:Normal Operation
END:VEVENT
BEGIN:VEVENT
DTSTART;TZID=Asia/Kuala_Lumpur:20221114T093000
DTEND;TZID=Asia/Kuala_Lumpur:20221114T180000
DTSTAMP:20260426T023053
CREATED:20211223T021313Z
LAST-MODIFIED:20211223T021612Z
UID:127004-1668418200-1668448800@panoramalangkawi.com
SUMMARY:Normal Operation
DESCRIPTION:
URL:https://panoramalangkawi.com/operation-calendar/normal-operation-101-2022-11-14/
CATEGORIES:Normal Operation
END:VEVENT
BEGIN:VEVENT
DTSTART;TZID=Asia/Kuala_Lumpur:20221113T093000
DTEND;TZID=Asia/Kuala_Lumpur:20221113T180000
DTSTAMP:20260426T023053
CREATED:20211223T021313Z
LAST-MODIFIED:20211223T021612Z
UID:127003-1668331800-1668362400@panoramalangkawi.com
SUMMARY:Normal Operation
DESCRIPTION:
URL:https://panoramalangkawi.com/operation-calendar/normal-operation-101-2022-11-13/
CATEGORIES:Normal Operation
END:VEVENT
BEGIN:VEVENT
DTSTART;TZID=Asia/Kuala_Lumpur:20221112T093000
DTEND;TZID=Asia/Kuala_Lumpur:20221112T180000
DTSTAMP:20260426T023053
CREATED:20211223T021313Z
LAST-MODIFIED:20211223T021611Z
UID:127002-1668245400-1668276000@panoramalangkawi.com
SUMMARY:Normal Operation
DESCRIPTION:
URL:https://panoramalangkawi.com/operation-calendar/normal-operation-101-2022-11-12/
CATEGORIES:Normal Operation
END:VEVENT
BEGIN:VEVENT
DTSTART;TZID=Asia/Kuala_Lumpur:20221111T093000
DTEND;TZID=Asia/Kuala_Lumpur:20221111T180000
DTSTAMP:20260426T023053
CREATED:20211223T021313Z
LAST-MODIFIED:20211223T021609Z
UID:127001-1668159000-1668189600@panoramalangkawi.com
SUMMARY:Normal Operation
DESCRIPTION:
URL:https://panoramalangkawi.com/operation-calendar/normal-operation-101-2022-11-11/
CATEGORIES:Normal Operation
END:VEVENT
BEGIN:VEVENT
DTSTART;TZID=Asia/Kuala_Lumpur:20221110T093000
DTEND;TZID=Asia/Kuala_Lumpur:20221110T180000
DTSTAMP:20260426T023053
CREATED:20211223T021313Z
LAST-MODIFIED:20211223T021609Z
UID:127000-1668072600-1668103200@panoramalangkawi.com
SUMMARY:Normal Operation
DESCRIPTION:
URL:https://panoramalangkawi.com/operation-calendar/normal-operation-101-2022-11-10/
CATEGORIES:Normal Operation
END:VEVENT
BEGIN:VEVENT
DTSTART;TZID=Asia/Kuala_Lumpur:20221108T093000
DTEND;TZID=Asia/Kuala_Lumpur:20221108T180000
DTSTAMP:20260426T023053
CREATED:20211223T021313Z
LAST-MODIFIED:20211223T021609Z
UID:126999-1667899800-1667930400@panoramalangkawi.com
SUMMARY:Normal Operation
DESCRIPTION:
URL:https://panoramalangkawi.com/operation-calendar/normal-operation-101-2022-11-08/
CATEGORIES:Normal Operation
END:VEVENT
BEGIN:VEVENT
DTSTART;TZID=Asia/Kuala_Lumpur:20221107T093000
DTEND;TZID=Asia/Kuala_Lumpur:20221107T180000
DTSTAMP:20260426T023053
CREATED:20211223T021313Z
LAST-MODIFIED:20211223T021609Z
UID:126998-1667813400-1667844000@panoramalangkawi.com
SUMMARY:Normal Operation
DESCRIPTION:
URL:https://panoramalangkawi.com/operation-calendar/normal-operation-101-2022-11-07/
CATEGORIES:Normal Operation
END:VEVENT
BEGIN:VEVENT
DTSTART;TZID=Asia/Kuala_Lumpur:20221106T093000
DTEND;TZID=Asia/Kuala_Lumpur:20221106T180000
DTSTAMP:20260426T023053
CREATED:20211223T021313Z
LAST-MODIFIED:20211223T021609Z
UID:126997-1667727000-1667757600@panoramalangkawi.com
SUMMARY:Normal Operation
DESCRIPTION:
URL:https://panoramalangkawi.com/operation-calendar/normal-operation-101-2022-11-06/
CATEGORIES:Normal Operation
END:VEVENT
BEGIN:VEVENT
DTSTART;TZID=Asia/Kuala_Lumpur:20221105T093000
DTEND;TZID=Asia/Kuala_Lumpur:20221105T180000
DTSTAMP:20260426T023053
CREATED:20211223T021313Z
LAST-MODIFIED:20211223T021609Z
UID:126996-1667640600-1667671200@panoramalangkawi.com
SUMMARY:Normal Operation
DESCRIPTION:
URL:https://panoramalangkawi.com/operation-calendar/normal-operation-101-2022-11-05/
CATEGORIES:Normal Operation
END:VEVENT
BEGIN:VEVENT
DTSTART;TZID=Asia/Kuala_Lumpur:20221104T093000
DTEND;TZID=Asia/Kuala_Lumpur:20221104T180000
DTSTAMP:20260426T023053
CREATED:20211223T021313Z
LAST-MODIFIED:20211223T021609Z
UID:126995-1667554200-1667584800@panoramalangkawi.com
SUMMARY:Normal Operation
DESCRIPTION:
URL:https://panoramalangkawi.com/operation-calendar/normal-operation-101-2022-11-04/
CATEGORIES:Normal Operation
END:VEVENT
BEGIN:VEVENT
DTSTART;TZID=Asia/Kuala_Lumpur:20221103T093000
DTEND;TZID=Asia/Kuala_Lumpur:20221103T180000
DTSTAMP:20260426T023053
CREATED:20211223T021313Z
LAST-MODIFIED:20211223T021609Z
UID:126994-1667467800-1667498400@panoramalangkawi.com
SUMMARY:Normal Operation
DESCRIPTION:
URL:https://panoramalangkawi.com/operation-calendar/normal-operation-101-2022-11-03/
CATEGORIES:Normal Operation
END:VEVENT
BEGIN:VEVENT
DTSTART;TZID=Asia/Kuala_Lumpur:20221102T093000
DTEND;TZID=Asia/Kuala_Lumpur:20221102T180000
DTSTAMP:20260426T023053
CREATED:20211223T021313Z
LAST-MODIFIED:20211223T021609Z
UID:126993-1667381400-1667412000@panoramalangkawi.com
SUMMARY:Normal Operation
DESCRIPTION:
URL:https://panoramalangkawi.com/operation-calendar/normal-operation-101-2022-11-02/
CATEGORIES:Normal Operation
END:VEVENT
BEGIN:VEVENT
DTSTART;TZID=Asia/Kuala_Lumpur:20221101T093000
DTEND;TZID=Asia/Kuala_Lumpur:20221101T180000
DTSTAMP:20260426T023053
CREATED:20211223T021313Z
LAST-MODIFIED:20211223T021559Z
UID:126991-1667295000-1667325600@panoramalangkawi.com
SUMMARY:Normal Operation
DESCRIPTION:
URL:https://panoramalangkawi.com/operation-calendar/normal-operation-101/
CATEGORIES:Normal Operation
END:VEVENT
BEGIN:VEVENT
DTSTART;TZID=Asia/Kuala_Lumpur:20221031T093000
DTEND;TZID=Asia/Kuala_Lumpur:20221031T180000
DTSTAMP:20260426T023053
CREATED:20211223T013543Z
LAST-MODIFIED:20221017T012743Z
UID:126977-1667208600-1667239200@panoramalangkawi.com
SUMMARY:Normal Operation
DESCRIPTION:
URL:https://panoramalangkawi.com/operation-calendar/normal-operation-100-2022-10-31/
CATEGORIES:Normal Operation
END:VEVENT
BEGIN:VEVENT
DTSTART;TZID=Asia/Kuala_Lumpur:20221030T093000
DTEND;TZID=Asia/Kuala_Lumpur:20221030T180000
DTSTAMP:20260426T023053
CREATED:20211223T013543Z
LAST-MODIFIED:20221017T012743Z
UID:126976-1667122200-1667152800@panoramalangkawi.com
SUMMARY:Normal Operation
DESCRIPTION:
URL:https://panoramalangkawi.com/operation-calendar/normal-operation-100-2022-10-30/
CATEGORIES:Normal Operation
END:VEVENT
BEGIN:VEVENT
DTSTART;TZID=Asia/Kuala_Lumpur:20221029T093000
DTEND;TZID=Asia/Kuala_Lumpur:20221029T180000
DTSTAMP:20260426T023053
CREATED:20211223T013543Z
LAST-MODIFIED:20221017T012743Z
UID:126975-1667035800-1667066400@panoramalangkawi.com
SUMMARY:Normal Operation
DESCRIPTION:
URL:https://panoramalangkawi.com/operation-calendar/normal-operation-100-2022-10-29/
CATEGORIES:Normal Operation
END:VEVENT
BEGIN:VEVENT
DTSTART;TZID=Asia/Kuala_Lumpur:20221028T093000
DTEND;TZID=Asia/Kuala_Lumpur:20221028T180000
DTSTAMP:20260426T023053
CREATED:20211223T013543Z
LAST-MODIFIED:20221017T012739Z
UID:126974-1666949400-1666980000@panoramalangkawi.com
SUMMARY:Normal Operation
DESCRIPTION:
URL:https://panoramalangkawi.com/operation-calendar/normal-operation-100-2022-10-28/
CATEGORIES:Normal Operation
END:VEVENT
BEGIN:VEVENT
DTSTART;TZID=Asia/Kuala_Lumpur:20221027T093000
DTEND;TZID=Asia/Kuala_Lumpur:20221027T180000
DTSTAMP:20260426T023053
CREATED:20211223T013543Z
LAST-MODIFIED:20221017T012739Z
UID:126973-1666863000-1666893600@panoramalangkawi.com
SUMMARY:Normal Operation
DESCRIPTION:
URL:https://panoramalangkawi.com/operation-calendar/normal-operation-100-2022-10-27/
CATEGORIES:Normal Operation
END:VEVENT
BEGIN:VEVENT
DTSTART;TZID=Asia/Kuala_Lumpur:20221022T093000
DTEND;TZID=Asia/Kuala_Lumpur:20221022T180000
DTSTAMP:20260426T023053
CREATED:20211223T013543Z
LAST-MODIFIED:20221017T012739Z
UID:126972-1666431000-1666461600@panoramalangkawi.com
SUMMARY:Normal Operation
DESCRIPTION:
URL:https://panoramalangkawi.com/operation-calendar/normal-operation-100-2022-10-22/
CATEGORIES:Normal Operation
END:VEVENT
BEGIN:VEVENT
DTSTART;TZID=Asia/Kuala_Lumpur:20221021T093000
DTEND;TZID=Asia/Kuala_Lumpur:20221021T180000
DTSTAMP:20260426T023053
CREATED:20211223T013543Z
LAST-MODIFIED:20221017T012739Z
UID:126971-1666344600-1666375200@panoramalangkawi.com
SUMMARY:Normal Operation
DESCRIPTION:
URL:https://panoramalangkawi.com/operation-calendar/normal-operation-100-2022-10-21/
CATEGORIES:Normal Operation
END:VEVENT
BEGIN:VEVENT
DTSTART;TZID=Asia/Kuala_Lumpur:20221020T093000
DTEND;TZID=Asia/Kuala_Lumpur:20221020T180000
DTSTAMP:20260426T023053
CREATED:20211223T013543Z
LAST-MODIFIED:20221017T012739Z
UID:126970-1666258200-1666288800@panoramalangkawi.com
SUMMARY:Normal Operation
DESCRIPTION:
URL:https://panoramalangkawi.com/operation-calendar/normal-operation-100-2022-10-20/
CATEGORIES:Normal Operation
END:VEVENT
END:VCALENDAR