BEGIN:VCALENDAR
VERSION:2.0
PRODID:-//Official Website for Langkawi Cable Car - ECPv6.6.0//NONSGML v1.0//EN
CALSCALE:GREGORIAN
METHOD:PUBLISH
X-WR-CALNAME:Official Website for Langkawi Cable Car
X-ORIGINAL-URL:https://panoramalangkawi.com
X-WR-CALDESC:Events for Official Website for Langkawi Cable Car
REFRESH-INTERVAL;VALUE=DURATION:PT1H
X-Robots-Tag:noindex
X-PUBLISHED-TTL:PT1H
BEGIN:VTIMEZONE
TZID:Asia/Kuala_Lumpur
BEGIN:STANDARD
TZOFFSETFROM:+0800
TZOFFSETTO:+0800
TZNAME:+08
DTSTART:20220101T000000
END:STANDARD
END:VTIMEZONE
BEGIN:VEVENT
DTSTART;TZID=Asia/Kuala_Lumpur:20230324T093000
DTEND;TZID=Asia/Kuala_Lumpur:20230324T163000
DTSTAMP:20260425T221211
CREATED:20221222T020951Z
LAST-MODIFIED:20221222T020951Z
UID:131502-1679650200-1679675400@panoramalangkawi.com
SUMMARY:Ramadhan Operation
DESCRIPTION:Ramadhan
URL:https://panoramalangkawi.com/operation-calendar/public-holiday-69-2023-03-24/
CATEGORIES:Normal Operation
END:VEVENT
BEGIN:VEVENT
DTSTART;TZID=Asia/Kuala_Lumpur:20230323T093000
DTEND;TZID=Asia/Kuala_Lumpur:20230323T163000
DTSTAMP:20260425T221211
CREATED:20221222T020951Z
LAST-MODIFIED:20230319T082034Z
UID:130553-1679563800-1679589000@panoramalangkawi.com
SUMMARY:Ramadhan Operation
DESCRIPTION:Ramadhan
URL:https://panoramalangkawi.com/operation-calendar/public-holiday-69/
CATEGORIES:Normal Operation
END:VEVENT
BEGIN:VEVENT
DTSTART;TZID=Asia/Kuala_Lumpur:20221231T093000
DTEND;TZID=Asia/Kuala_Lumpur:20221231T180000
DTSTAMP:20260425T221211
CREATED:20211223T031321Z
LAST-MODIFIED:20211223T031321Z
UID:127079-1672479000-1672509600@panoramalangkawi.com
SUMMARY:Normal Operation
DESCRIPTION:
URL:https://panoramalangkawi.com/operation-calendar/normal-operation-102-2022-12-31/
CATEGORIES:Normal Operation
END:VEVENT
BEGIN:VEVENT
DTSTART;TZID=Asia/Kuala_Lumpur:20221230T093000
DTEND;TZID=Asia/Kuala_Lumpur:20221230T180000
DTSTAMP:20260425T221211
CREATED:20211223T031321Z
LAST-MODIFIED:20211223T031321Z
UID:127078-1672392600-1672423200@panoramalangkawi.com
SUMMARY:Normal Operation
DESCRIPTION:
URL:https://panoramalangkawi.com/operation-calendar/normal-operation-102-2022-12-30/
CATEGORIES:Normal Operation
END:VEVENT
BEGIN:VEVENT
DTSTART;TZID=Asia/Kuala_Lumpur:20221229T093000
DTEND;TZID=Asia/Kuala_Lumpur:20221229T180000
DTSTAMP:20260425T221211
CREATED:20211223T031321Z
LAST-MODIFIED:20211223T031321Z
UID:127077-1672306200-1672336800@panoramalangkawi.com
SUMMARY:Normal Operation
DESCRIPTION:
URL:https://panoramalangkawi.com/operation-calendar/normal-operation-102-2022-12-29/
CATEGORIES:Normal Operation
END:VEVENT
BEGIN:VEVENT
DTSTART;TZID=Asia/Kuala_Lumpur:20221228T093000
DTEND;TZID=Asia/Kuala_Lumpur:20221228T180000
DTSTAMP:20260425T221211
CREATED:20211223T031321Z
LAST-MODIFIED:20211223T031321Z
UID:127076-1672219800-1672250400@panoramalangkawi.com
SUMMARY:Normal Operation
DESCRIPTION:
URL:https://panoramalangkawi.com/operation-calendar/normal-operation-102-2022-12-28/
CATEGORIES:Normal Operation
END:VEVENT
BEGIN:VEVENT
DTSTART;TZID=Asia/Kuala_Lumpur:20221227T093000
DTEND;TZID=Asia/Kuala_Lumpur:20221227T180000
DTSTAMP:20260425T221211
CREATED:20211223T031321Z
LAST-MODIFIED:20211223T031321Z
UID:127075-1672133400-1672164000@panoramalangkawi.com
SUMMARY:Normal Operation
DESCRIPTION:
URL:https://panoramalangkawi.com/operation-calendar/normal-operation-102-2022-12-27/
CATEGORIES:Normal Operation
END:VEVENT
BEGIN:VEVENT
DTSTART;TZID=Asia/Kuala_Lumpur:20221226T093000
DTEND;TZID=Asia/Kuala_Lumpur:20221226T180000
DTSTAMP:20260425T221211
CREATED:20211223T031321Z
LAST-MODIFIED:20211223T031321Z
UID:127074-1672047000-1672077600@panoramalangkawi.com
SUMMARY:Normal Operation
DESCRIPTION:
URL:https://panoramalangkawi.com/operation-calendar/normal-operation-102-2022-12-26/
CATEGORIES:Normal Operation
END:VEVENT
BEGIN:VEVENT
DTSTART;TZID=Asia/Kuala_Lumpur:20221224T093000
DTEND;TZID=Asia/Kuala_Lumpur:20221224T180000
DTSTAMP:20260425T221211
CREATED:20211223T031321Z
LAST-MODIFIED:20211223T031321Z
UID:127073-1671874200-1671904800@panoramalangkawi.com
SUMMARY:Normal Operation
DESCRIPTION:
URL:https://panoramalangkawi.com/operation-calendar/normal-operation-102-2022-12-24/
CATEGORIES:Normal Operation
END:VEVENT
BEGIN:VEVENT
DTSTART;TZID=Asia/Kuala_Lumpur:20221223T093000
DTEND;TZID=Asia/Kuala_Lumpur:20221223T180000
DTSTAMP:20260425T221211
CREATED:20211223T031321Z
LAST-MODIFIED:20211223T031321Z
UID:127072-1671787800-1671818400@panoramalangkawi.com
SUMMARY:Normal Operation
DESCRIPTION:
URL:https://panoramalangkawi.com/operation-calendar/normal-operation-102-2022-12-23/
CATEGORIES:Normal Operation
END:VEVENT
BEGIN:VEVENT
DTSTART;TZID=Asia/Kuala_Lumpur:20221222T093000
DTEND;TZID=Asia/Kuala_Lumpur:20221222T180000
DTSTAMP:20260425T221211
CREATED:20211223T031321Z
LAST-MODIFIED:20211223T031321Z
UID:127071-1671701400-1671732000@panoramalangkawi.com
SUMMARY:Normal Operation
DESCRIPTION:
URL:https://panoramalangkawi.com/operation-calendar/normal-operation-102-2022-12-22/
CATEGORIES:Normal Operation
END:VEVENT
BEGIN:VEVENT
DTSTART;TZID=Asia/Kuala_Lumpur:20221221T093000
DTEND;TZID=Asia/Kuala_Lumpur:20221221T180000
DTSTAMP:20260425T221211
CREATED:20211223T031321Z
LAST-MODIFIED:20211223T031321Z
UID:127070-1671615000-1671645600@panoramalangkawi.com
SUMMARY:Normal Operation
DESCRIPTION:
URL:https://panoramalangkawi.com/operation-calendar/normal-operation-102-2022-12-21/
CATEGORIES:Normal Operation
END:VEVENT
BEGIN:VEVENT
DTSTART;TZID=Asia/Kuala_Lumpur:20221220T093000
DTEND;TZID=Asia/Kuala_Lumpur:20221220T180000
DTSTAMP:20260425T221211
CREATED:20211223T031321Z
LAST-MODIFIED:20211223T031321Z
UID:127069-1671528600-1671559200@panoramalangkawi.com
SUMMARY:Normal Operation
DESCRIPTION:
URL:https://panoramalangkawi.com/operation-calendar/normal-operation-102-2022-12-20/
CATEGORIES:Normal Operation
END:VEVENT
BEGIN:VEVENT
DTSTART;TZID=Asia/Kuala_Lumpur:20221219T093000
DTEND;TZID=Asia/Kuala_Lumpur:20221219T180000
DTSTAMP:20260425T221211
CREATED:20211223T031321Z
LAST-MODIFIED:20211223T031321Z
UID:127068-1671442200-1671472800@panoramalangkawi.com
SUMMARY:Normal Operation
DESCRIPTION:
URL:https://panoramalangkawi.com/operation-calendar/normal-operation-102-2022-12-19/
CATEGORIES:Normal Operation
END:VEVENT
BEGIN:VEVENT
DTSTART;TZID=Asia/Kuala_Lumpur:20221218T093000
DTEND;TZID=Asia/Kuala_Lumpur:20221218T180000
DTSTAMP:20260425T221211
CREATED:20211223T031321Z
LAST-MODIFIED:20211223T031321Z
UID:127067-1671355800-1671386400@panoramalangkawi.com
SUMMARY:Normal Operation
DESCRIPTION:
URL:https://panoramalangkawi.com/operation-calendar/normal-operation-102-2022-12-18/
CATEGORIES:Normal Operation
END:VEVENT
BEGIN:VEVENT
DTSTART;TZID=Asia/Kuala_Lumpur:20221217T093000
DTEND;TZID=Asia/Kuala_Lumpur:20221217T180000
DTSTAMP:20260425T221211
CREATED:20211223T031321Z
LAST-MODIFIED:20211223T031321Z
UID:127066-1671269400-1671300000@panoramalangkawi.com
SUMMARY:Normal Operation
DESCRIPTION:
URL:https://panoramalangkawi.com/operation-calendar/normal-operation-102-2022-12-17/
CATEGORIES:Normal Operation
END:VEVENT
BEGIN:VEVENT
DTSTART;TZID=Asia/Kuala_Lumpur:20221216T093000
DTEND;TZID=Asia/Kuala_Lumpur:20221216T180000
DTSTAMP:20260425T221211
CREATED:20211223T031321Z
LAST-MODIFIED:20211223T031321Z
UID:127065-1671183000-1671213600@panoramalangkawi.com
SUMMARY:Normal Operation
DESCRIPTION:
URL:https://panoramalangkawi.com/operation-calendar/normal-operation-102-2022-12-16/
CATEGORIES:Normal Operation
END:VEVENT
BEGIN:VEVENT
DTSTART;TZID=Asia/Kuala_Lumpur:20221215T093000
DTEND;TZID=Asia/Kuala_Lumpur:20221215T180000
DTSTAMP:20260425T221211
CREATED:20211223T031321Z
LAST-MODIFIED:20211223T031321Z
UID:127064-1671096600-1671127200@panoramalangkawi.com
SUMMARY:Normal Operation
DESCRIPTION:
URL:https://panoramalangkawi.com/operation-calendar/normal-operation-102-2022-12-15/
CATEGORIES:Normal Operation
END:VEVENT
BEGIN:VEVENT
DTSTART;TZID=Asia/Kuala_Lumpur:20221214T093000
DTEND;TZID=Asia/Kuala_Lumpur:20221214T180000
DTSTAMP:20260425T221211
CREATED:20211223T031321Z
LAST-MODIFIED:20211223T031321Z
UID:127063-1671010200-1671040800@panoramalangkawi.com
SUMMARY:Normal Operation
DESCRIPTION:
URL:https://panoramalangkawi.com/operation-calendar/normal-operation-102-2022-12-14/
CATEGORIES:Normal Operation
END:VEVENT
BEGIN:VEVENT
DTSTART;TZID=Asia/Kuala_Lumpur:20221213T093000
DTEND;TZID=Asia/Kuala_Lumpur:20221213T180000
DTSTAMP:20260425T221211
CREATED:20211223T031321Z
LAST-MODIFIED:20211223T031321Z
UID:127062-1670923800-1670954400@panoramalangkawi.com
SUMMARY:Normal Operation
DESCRIPTION:
URL:https://panoramalangkawi.com/operation-calendar/normal-operation-102-2022-12-13/
CATEGORIES:Normal Operation
END:VEVENT
BEGIN:VEVENT
DTSTART;TZID=Asia/Kuala_Lumpur:20221212T093000
DTEND;TZID=Asia/Kuala_Lumpur:20221212T180000
DTSTAMP:20260425T221211
CREATED:20211223T031321Z
LAST-MODIFIED:20211223T031321Z
UID:127061-1670837400-1670868000@panoramalangkawi.com
SUMMARY:Normal Operation
DESCRIPTION:
URL:https://panoramalangkawi.com/operation-calendar/normal-operation-102-2022-12-12/
CATEGORIES:Normal Operation
END:VEVENT
BEGIN:VEVENT
DTSTART;TZID=Asia/Kuala_Lumpur:20221211T093000
DTEND;TZID=Asia/Kuala_Lumpur:20221211T180000
DTSTAMP:20260425T221211
CREATED:20211223T031321Z
LAST-MODIFIED:20211223T031321Z
UID:127060-1670751000-1670781600@panoramalangkawi.com
SUMMARY:Normal Operation
DESCRIPTION:
URL:https://panoramalangkawi.com/operation-calendar/normal-operation-102-2022-12-11/
CATEGORIES:Normal Operation
END:VEVENT
BEGIN:VEVENT
DTSTART;TZID=Asia/Kuala_Lumpur:20221210T093000
DTEND;TZID=Asia/Kuala_Lumpur:20221210T180000
DTSTAMP:20260425T221211
CREATED:20211223T031321Z
LAST-MODIFIED:20211223T031321Z
UID:127059-1670664600-1670695200@panoramalangkawi.com
SUMMARY:Normal Operation
DESCRIPTION:
URL:https://panoramalangkawi.com/operation-calendar/normal-operation-102-2022-12-10/
CATEGORIES:Normal Operation
END:VEVENT
BEGIN:VEVENT
DTSTART;TZID=Asia/Kuala_Lumpur:20221209T093000
DTEND;TZID=Asia/Kuala_Lumpur:20221209T180000
DTSTAMP:20260425T221211
CREATED:20211223T031321Z
LAST-MODIFIED:20211223T031321Z
UID:127058-1670578200-1670608800@panoramalangkawi.com
SUMMARY:Normal Operation
DESCRIPTION:
URL:https://panoramalangkawi.com/operation-calendar/normal-operation-102-2022-12-09/
CATEGORIES:Normal Operation
END:VEVENT
BEGIN:VEVENT
DTSTART;TZID=Asia/Kuala_Lumpur:20221208T093000
DTEND;TZID=Asia/Kuala_Lumpur:20221208T180000
DTSTAMP:20260425T221211
CREATED:20211223T031321Z
LAST-MODIFIED:20211223T031321Z
UID:127057-1670491800-1670522400@panoramalangkawi.com
SUMMARY:Normal Operation
DESCRIPTION:
URL:https://panoramalangkawi.com/operation-calendar/normal-operation-102-2022-12-08/
CATEGORIES:Normal Operation
END:VEVENT
BEGIN:VEVENT
DTSTART;TZID=Asia/Kuala_Lumpur:20221206T093000
DTEND;TZID=Asia/Kuala_Lumpur:20221206T180000
DTSTAMP:20260425T221211
CREATED:20211223T031321Z
LAST-MODIFIED:20211223T031321Z
UID:127056-1670319000-1670349600@panoramalangkawi.com
SUMMARY:Normal Operation
DESCRIPTION:
URL:https://panoramalangkawi.com/operation-calendar/normal-operation-102-2022-12-06/
CATEGORIES:Normal Operation
END:VEVENT
BEGIN:VEVENT
DTSTART;TZID=Asia/Kuala_Lumpur:20221205T093000
DTEND;TZID=Asia/Kuala_Lumpur:20221205T180000
DTSTAMP:20260425T221211
CREATED:20211223T031321Z
LAST-MODIFIED:20211223T031321Z
UID:127055-1670232600-1670263200@panoramalangkawi.com
SUMMARY:Normal Operation
DESCRIPTION:
URL:https://panoramalangkawi.com/operation-calendar/normal-operation-102-2022-12-05/
CATEGORIES:Normal Operation
END:VEVENT
BEGIN:VEVENT
DTSTART;TZID=Asia/Kuala_Lumpur:20221204T093000
DTEND;TZID=Asia/Kuala_Lumpur:20221204T180000
DTSTAMP:20260425T221211
CREATED:20211223T031321Z
LAST-MODIFIED:20211223T031321Z
UID:127054-1670146200-1670176800@panoramalangkawi.com
SUMMARY:Normal Operation
DESCRIPTION:
URL:https://panoramalangkawi.com/operation-calendar/normal-operation-102-2022-12-04/
CATEGORIES:Normal Operation
END:VEVENT
BEGIN:VEVENT
DTSTART;TZID=Asia/Kuala_Lumpur:20221203T093000
DTEND;TZID=Asia/Kuala_Lumpur:20221203T180000
DTSTAMP:20260425T221211
CREATED:20211223T031321Z
LAST-MODIFIED:20211223T031321Z
UID:127053-1670059800-1670090400@panoramalangkawi.com
SUMMARY:Normal Operation
DESCRIPTION:
URL:https://panoramalangkawi.com/operation-calendar/normal-operation-102-2022-12-03/
CATEGORIES:Normal Operation
END:VEVENT
BEGIN:VEVENT
DTSTART;TZID=Asia/Kuala_Lumpur:20221202T093000
DTEND;TZID=Asia/Kuala_Lumpur:20221202T180000
DTSTAMP:20260425T221211
CREATED:20211223T031321Z
LAST-MODIFIED:20211223T031321Z
UID:127052-1669973400-1670004000@panoramalangkawi.com
SUMMARY:Normal Operation
DESCRIPTION:
URL:https://panoramalangkawi.com/operation-calendar/normal-operation-102-2022-12-02/
CATEGORIES:Normal Operation
END:VEVENT
END:VCALENDAR