BEGIN:VCALENDAR
VERSION:2.0
PRODID:-//Official Website for Langkawi Cable Car - ECPv6.6.0//NONSGML v1.0//EN
CALSCALE:GREGORIAN
METHOD:PUBLISH
X-ORIGINAL-URL:https://panoramalangkawi.com
X-WR-CALDESC:Events for Official Website for Langkawi Cable Car
REFRESH-INTERVAL;VALUE=DURATION:PT1H
X-Robots-Tag:noindex
X-PUBLISHED-TTL:PT1H
BEGIN:VTIMEZONE
TZID:Asia/Kuala_Lumpur
BEGIN:STANDARD
TZOFFSETFROM:+0800
TZOFFSETTO:+0800
TZNAME:+08
DTSTART:20220101T000000
END:STANDARD
END:VTIMEZONE
BEGIN:VEVENT
DTSTART;TZID=Asia/Kuala_Lumpur:20230420T093000
DTEND;TZID=Asia/Kuala_Lumpur:20230420T163000
DTSTAMP:20260425T195253
CREATED:20221222T020951Z
LAST-MODIFIED:20221222T020951Z
UID:131526-1681983000-1682008200@panoramalangkawi.com
SUMMARY:Ramadhan Operation
DESCRIPTION:Ramadhan
URL:https://panoramalangkawi.com/operation-calendar/public-holiday-69-2023-04-20/
CATEGORIES:Normal Operation
END:VEVENT
BEGIN:VEVENT
DTSTART;TZID=Asia/Kuala_Lumpur:20230418T093000
DTEND;TZID=Asia/Kuala_Lumpur:20230418T163000
DTSTAMP:20260425T195253
CREATED:20221222T020951Z
LAST-MODIFIED:20221222T020951Z
UID:131525-1681810200-1681835400@panoramalangkawi.com
SUMMARY:Ramadhan Operation
DESCRIPTION:Ramadhan
URL:https://panoramalangkawi.com/operation-calendar/public-holiday-69-2023-04-18/
CATEGORIES:Normal Operation
END:VEVENT
BEGIN:VEVENT
DTSTART;TZID=Asia/Kuala_Lumpur:20230417T093000
DTEND;TZID=Asia/Kuala_Lumpur:20230417T163000
DTSTAMP:20260425T195253
CREATED:20221222T020951Z
LAST-MODIFIED:20221222T020951Z
UID:131524-1681723800-1681749000@panoramalangkawi.com
SUMMARY:Ramadhan Operation
DESCRIPTION:Ramadhan
URL:https://panoramalangkawi.com/operation-calendar/public-holiday-69-2023-04-17/
CATEGORIES:Normal Operation
END:VEVENT
BEGIN:VEVENT
DTSTART;TZID=Asia/Kuala_Lumpur:20230416T093000
DTEND;TZID=Asia/Kuala_Lumpur:20230416T163000
DTSTAMP:20260425T195253
CREATED:20221222T020951Z
LAST-MODIFIED:20221222T020951Z
UID:131523-1681637400-1681662600@panoramalangkawi.com
SUMMARY:Ramadhan Operation
DESCRIPTION:Ramadhan
URL:https://panoramalangkawi.com/operation-calendar/public-holiday-69-2023-04-16/
CATEGORIES:Normal Operation
END:VEVENT
BEGIN:VEVENT
DTSTART;TZID=Asia/Kuala_Lumpur:20230415T093000
DTEND;TZID=Asia/Kuala_Lumpur:20230415T163000
DTSTAMP:20260425T195253
CREATED:20221222T020951Z
LAST-MODIFIED:20221222T020951Z
UID:131522-1681551000-1681576200@panoramalangkawi.com
SUMMARY:Ramadhan Operation
DESCRIPTION:Ramadhan
URL:https://panoramalangkawi.com/operation-calendar/public-holiday-69-2023-04-15/
CATEGORIES:Normal Operation
END:VEVENT
BEGIN:VEVENT
DTSTART;TZID=Asia/Kuala_Lumpur:20230414T093000
DTEND;TZID=Asia/Kuala_Lumpur:20230414T163000
DTSTAMP:20260425T195253
CREATED:20221222T020951Z
LAST-MODIFIED:20221222T020951Z
UID:131521-1681464600-1681489800@panoramalangkawi.com
SUMMARY:Ramadhan Operation
DESCRIPTION:Ramadhan
URL:https://panoramalangkawi.com/operation-calendar/public-holiday-69-2023-04-14/
CATEGORIES:Normal Operation
END:VEVENT
BEGIN:VEVENT
DTSTART;TZID=Asia/Kuala_Lumpur:20230413T093000
DTEND;TZID=Asia/Kuala_Lumpur:20230413T163000
DTSTAMP:20260425T195253
CREATED:20221222T020951Z
LAST-MODIFIED:20221222T020951Z
UID:131520-1681378200-1681403400@panoramalangkawi.com
SUMMARY:Ramadhan Operation
DESCRIPTION:Ramadhan
URL:https://panoramalangkawi.com/operation-calendar/public-holiday-69-2023-04-13/
CATEGORIES:Normal Operation
END:VEVENT
BEGIN:VEVENT
DTSTART;TZID=Asia/Kuala_Lumpur:20230411T093000
DTEND;TZID=Asia/Kuala_Lumpur:20230411T163000
DTSTAMP:20260425T195253
CREATED:20221222T020951Z
LAST-MODIFIED:20221222T020951Z
UID:131519-1681205400-1681230600@panoramalangkawi.com
SUMMARY:Ramadhan Operation
DESCRIPTION:Ramadhan
URL:https://panoramalangkawi.com/operation-calendar/public-holiday-69-2023-04-11/
CATEGORIES:Normal Operation
END:VEVENT
BEGIN:VEVENT
DTSTART;TZID=Asia/Kuala_Lumpur:20230410T093000
DTEND;TZID=Asia/Kuala_Lumpur:20230410T163000
DTSTAMP:20260425T195253
CREATED:20221222T020951Z
LAST-MODIFIED:20221222T020951Z
UID:131518-1681119000-1681144200@panoramalangkawi.com
SUMMARY:Ramadhan Operation
DESCRIPTION:Ramadhan
URL:https://panoramalangkawi.com/operation-calendar/public-holiday-69-2023-04-10/
CATEGORIES:Normal Operation
END:VEVENT
BEGIN:VEVENT
DTSTART;TZID=Asia/Kuala_Lumpur:20230409T093000
DTEND;TZID=Asia/Kuala_Lumpur:20230409T163000
DTSTAMP:20260425T195253
CREATED:20221222T020951Z
LAST-MODIFIED:20221222T020951Z
UID:131517-1681032600-1681057800@panoramalangkawi.com
SUMMARY:Ramadhan Operation
DESCRIPTION:Ramadhan
URL:https://panoramalangkawi.com/operation-calendar/public-holiday-69-2023-04-09/
CATEGORIES:Normal Operation
END:VEVENT
BEGIN:VEVENT
DTSTART;TZID=Asia/Kuala_Lumpur:20230408T093000
DTEND;TZID=Asia/Kuala_Lumpur:20230408T163000
DTSTAMP:20260425T195253
CREATED:20221222T020951Z
LAST-MODIFIED:20221222T020951Z
UID:131516-1680946200-1680971400@panoramalangkawi.com
SUMMARY:Ramadhan Operation
DESCRIPTION:Ramadhan
URL:https://panoramalangkawi.com/operation-calendar/public-holiday-69-2023-04-08/
CATEGORIES:Normal Operation
END:VEVENT
BEGIN:VEVENT
DTSTART;TZID=Asia/Kuala_Lumpur:20230407T093000
DTEND;TZID=Asia/Kuala_Lumpur:20230407T163000
DTSTAMP:20260425T195253
CREATED:20221222T020951Z
LAST-MODIFIED:20221222T020951Z
UID:131515-1680859800-1680885000@panoramalangkawi.com
SUMMARY:Ramadhan Operation
DESCRIPTION:Ramadhan
URL:https://panoramalangkawi.com/operation-calendar/public-holiday-69-2023-04-07/
CATEGORIES:Normal Operation
END:VEVENT
BEGIN:VEVENT
DTSTART;TZID=Asia/Kuala_Lumpur:20230406T093000
DTEND;TZID=Asia/Kuala_Lumpur:20230406T163000
DTSTAMP:20260425T195253
CREATED:20221222T020951Z
LAST-MODIFIED:20221222T020951Z
UID:131514-1680773400-1680798600@panoramalangkawi.com
SUMMARY:Ramadhan Operation
DESCRIPTION:Ramadhan
URL:https://panoramalangkawi.com/operation-calendar/public-holiday-69-2023-04-06/
CATEGORIES:Normal Operation
END:VEVENT
BEGIN:VEVENT
DTSTART;TZID=Asia/Kuala_Lumpur:20230404T093000
DTEND;TZID=Asia/Kuala_Lumpur:20230404T163000
DTSTAMP:20260425T195253
CREATED:20221222T020951Z
LAST-MODIFIED:20221222T020951Z
UID:131513-1680600600-1680625800@panoramalangkawi.com
SUMMARY:Ramadhan Operation
DESCRIPTION:Ramadhan
URL:https://panoramalangkawi.com/operation-calendar/public-holiday-69-2023-04-04/
CATEGORIES:Normal Operation
END:VEVENT
BEGIN:VEVENT
DTSTART;TZID=Asia/Kuala_Lumpur:20230403T093000
DTEND;TZID=Asia/Kuala_Lumpur:20230403T163000
DTSTAMP:20260425T195253
CREATED:20221222T020951Z
LAST-MODIFIED:20221222T020951Z
UID:131512-1680514200-1680539400@panoramalangkawi.com
SUMMARY:Ramadhan Operation
DESCRIPTION:Ramadhan
URL:https://panoramalangkawi.com/operation-calendar/public-holiday-69-2023-04-03/
CATEGORIES:Normal Operation
END:VEVENT
BEGIN:VEVENT
DTSTART;TZID=Asia/Kuala_Lumpur:20230402T093000
DTEND;TZID=Asia/Kuala_Lumpur:20230402T163000
DTSTAMP:20260425T195253
CREATED:20221222T020951Z
LAST-MODIFIED:20221222T020951Z
UID:131511-1680427800-1680453000@panoramalangkawi.com
SUMMARY:Ramadhan Operation
DESCRIPTION:Ramadhan
URL:https://panoramalangkawi.com/operation-calendar/public-holiday-69-2023-04-02/
CATEGORIES:Normal Operation
END:VEVENT
BEGIN:VEVENT
DTSTART;TZID=Asia/Kuala_Lumpur:20230401T093000
DTEND;TZID=Asia/Kuala_Lumpur:20230401T163000
DTSTAMP:20260425T195253
CREATED:20221222T020951Z
LAST-MODIFIED:20221222T020951Z
UID:131510-1680341400-1680366600@panoramalangkawi.com
SUMMARY:Ramadhan Operation
DESCRIPTION:Ramadhan
URL:https://panoramalangkawi.com/operation-calendar/public-holiday-69-2023-04-01/
CATEGORIES:Normal Operation
END:VEVENT
BEGIN:VEVENT
DTSTART;TZID=Asia/Kuala_Lumpur:20230331T093000
DTEND;TZID=Asia/Kuala_Lumpur:20230331T163000
DTSTAMP:20260425T195253
CREATED:20221222T020951Z
LAST-MODIFIED:20221222T020951Z
UID:131509-1680255000-1680280200@panoramalangkawi.com
SUMMARY:Ramadhan Operation
DESCRIPTION:Ramadhan
URL:https://panoramalangkawi.com/operation-calendar/public-holiday-69-2023-03-31/
CATEGORIES:Normal Operation
END:VEVENT
BEGIN:VEVENT
DTSTART;TZID=Asia/Kuala_Lumpur:20230330T093000
DTEND;TZID=Asia/Kuala_Lumpur:20230330T163000
DTSTAMP:20260425T195253
CREATED:20221222T020951Z
LAST-MODIFIED:20221222T020951Z
UID:131508-1680168600-1680193800@panoramalangkawi.com
SUMMARY:Ramadhan Operation
DESCRIPTION:Ramadhan
URL:https://panoramalangkawi.com/operation-calendar/public-holiday-69-2023-03-30/
CATEGORIES:Normal Operation
END:VEVENT
BEGIN:VEVENT
DTSTART;TZID=Asia/Kuala_Lumpur:20230329T093000
DTEND;TZID=Asia/Kuala_Lumpur:20230329T163000
DTSTAMP:20260425T195253
CREATED:20221222T020951Z
LAST-MODIFIED:20221222T020951Z
UID:131507-1680082200-1680107400@panoramalangkawi.com
SUMMARY:Ramadhan Operation
DESCRIPTION:Ramadhan
URL:https://panoramalangkawi.com/operation-calendar/public-holiday-69-2023-03-29/
CATEGORIES:Normal Operation
END:VEVENT
BEGIN:VEVENT
DTSTART;TZID=Asia/Kuala_Lumpur:20230328T093000
DTEND;TZID=Asia/Kuala_Lumpur:20230328T163000
DTSTAMP:20260425T195253
CREATED:20221222T020951Z
LAST-MODIFIED:20221222T020951Z
UID:131506-1679995800-1680021000@panoramalangkawi.com
SUMMARY:Ramadhan Operation
DESCRIPTION:Ramadhan
URL:https://panoramalangkawi.com/operation-calendar/public-holiday-69-2023-03-28/
CATEGORIES:Normal Operation
END:VEVENT
BEGIN:VEVENT
DTSTART;TZID=Asia/Kuala_Lumpur:20230327T093000
DTEND;TZID=Asia/Kuala_Lumpur:20230327T163000
DTSTAMP:20260425T195253
CREATED:20221222T020951Z
LAST-MODIFIED:20221222T020951Z
UID:131505-1679909400-1679934600@panoramalangkawi.com
SUMMARY:Ramadhan Operation
DESCRIPTION:Ramadhan
URL:https://panoramalangkawi.com/operation-calendar/public-holiday-69-2023-03-27/
CATEGORIES:Normal Operation
END:VEVENT
BEGIN:VEVENT
DTSTART;TZID=Asia/Kuala_Lumpur:20230326T093000
DTEND;TZID=Asia/Kuala_Lumpur:20230326T163000
DTSTAMP:20260425T195253
CREATED:20221222T020951Z
LAST-MODIFIED:20221222T020951Z
UID:131504-1679823000-1679848200@panoramalangkawi.com
SUMMARY:Ramadhan Operation
DESCRIPTION:Ramadhan
URL:https://panoramalangkawi.com/operation-calendar/public-holiday-69-2023-03-26/
CATEGORIES:Normal Operation
END:VEVENT
BEGIN:VEVENT
DTSTART;TZID=Asia/Kuala_Lumpur:20230325T093000
DTEND;TZID=Asia/Kuala_Lumpur:20230325T163000
DTSTAMP:20260425T195253
CREATED:20221222T020951Z
LAST-MODIFIED:20221222T020951Z
UID:131503-1679736600-1679761800@panoramalangkawi.com
SUMMARY:Ramadhan Operation
DESCRIPTION:Ramadhan
URL:https://panoramalangkawi.com/operation-calendar/public-holiday-69-2023-03-25/
CATEGORIES:Normal Operation
END:VEVENT
BEGIN:VEVENT
DTSTART;TZID=Asia/Kuala_Lumpur:20230324T093000
DTEND;TZID=Asia/Kuala_Lumpur:20230324T163000
DTSTAMP:20260425T195253
CREATED:20221222T020951Z
LAST-MODIFIED:20221222T020951Z
UID:131502-1679650200-1679675400@panoramalangkawi.com
SUMMARY:Ramadhan Operation
DESCRIPTION:Ramadhan
URL:https://panoramalangkawi.com/operation-calendar/public-holiday-69-2023-03-24/
CATEGORIES:Normal Operation
END:VEVENT
BEGIN:VEVENT
DTSTART;TZID=Asia/Kuala_Lumpur:20230323T093000
DTEND;TZID=Asia/Kuala_Lumpur:20230323T163000
DTSTAMP:20260425T195253
CREATED:20221222T020951Z
LAST-MODIFIED:20230319T082034Z
UID:130553-1679563800-1679589000@panoramalangkawi.com
SUMMARY:Ramadhan Operation
DESCRIPTION:Ramadhan
URL:https://panoramalangkawi.com/operation-calendar/public-holiday-69/
CATEGORIES:Normal Operation
END:VEVENT
BEGIN:VEVENT
DTSTART;TZID=Asia/Kuala_Lumpur:20221231T093000
DTEND;TZID=Asia/Kuala_Lumpur:20221231T180000
DTSTAMP:20260425T195253
CREATED:20211223T031321Z
LAST-MODIFIED:20211223T031321Z
UID:127079-1672479000-1672509600@panoramalangkawi.com
SUMMARY:Normal Operation
DESCRIPTION:
URL:https://panoramalangkawi.com/operation-calendar/normal-operation-102-2022-12-31/
CATEGORIES:Normal Operation
END:VEVENT
BEGIN:VEVENT
DTSTART;TZID=Asia/Kuala_Lumpur:20221230T093000
DTEND;TZID=Asia/Kuala_Lumpur:20221230T180000
DTSTAMP:20260425T195253
CREATED:20211223T031321Z
LAST-MODIFIED:20211223T031321Z
UID:127078-1672392600-1672423200@panoramalangkawi.com
SUMMARY:Normal Operation
DESCRIPTION:
URL:https://panoramalangkawi.com/operation-calendar/normal-operation-102-2022-12-30/
CATEGORIES:Normal Operation
END:VEVENT
BEGIN:VEVENT
DTSTART;TZID=Asia/Kuala_Lumpur:20221229T093000
DTEND;TZID=Asia/Kuala_Lumpur:20221229T180000
DTSTAMP:20260425T195253
CREATED:20211223T031321Z
LAST-MODIFIED:20211223T031321Z
UID:127077-1672306200-1672336800@panoramalangkawi.com
SUMMARY:Normal Operation
DESCRIPTION:
URL:https://panoramalangkawi.com/operation-calendar/normal-operation-102-2022-12-29/
CATEGORIES:Normal Operation
END:VEVENT
BEGIN:VEVENT
DTSTART;TZID=Asia/Kuala_Lumpur:20221228T093000
DTEND;TZID=Asia/Kuala_Lumpur:20221228T180000
DTSTAMP:20260425T195253
CREATED:20211223T031321Z
LAST-MODIFIED:20211223T031321Z
UID:127076-1672219800-1672250400@panoramalangkawi.com
SUMMARY:Normal Operation
DESCRIPTION:
URL:https://panoramalangkawi.com/operation-calendar/normal-operation-102-2022-12-28/
CATEGORIES:Normal Operation
END:VEVENT
END:VCALENDAR