BEGIN:VCALENDAR
VERSION:2.0
PRODID:-//Official Website for Langkawi Cable Car - ECPv6.6.0//NONSGML v1.0//EN
CALSCALE:GREGORIAN
METHOD:PUBLISH
X-ORIGINAL-URL:https://panoramalangkawi.com
X-WR-CALDESC:Events for Official Website for Langkawi Cable Car
REFRESH-INTERVAL;VALUE=DURATION:PT1H
X-Robots-Tag:noindex
X-PUBLISHED-TTL:PT1H
BEGIN:VTIMEZONE
TZID:Asia/Kuala_Lumpur
BEGIN:STANDARD
TZOFFSETFROM:+0800
TZOFFSETTO:+0800
TZNAME:+08
DTSTART:20250101T000000
END:STANDARD
END:VTIMEZONE
BEGIN:VEVENT
DTSTART;TZID=Asia/Kuala_Lumpur:20260112T000000
DTEND;TZID=Asia/Kuala_Lumpur:20260113T235959
DTSTAMP:20260424T141134
CREATED:20241106T040710Z
LAST-MODIFIED:20251218T072104Z
UID:133916-1768176000-1768348799@panoramalangkawi.com
SUMMARY:Normal Operation
DESCRIPTION:Operation start from 9.30 am to 6.00 pm daily
URL:https://panoramalangkawi.com/operation-calendar/normal-operation-224/
CATEGORIES:Normal Operation
END:VEVENT
BEGIN:VEVENT
DTSTART;TZID=Asia/Kuala_Lumpur:20251211T000000
DTEND;TZID=Asia/Kuala_Lumpur:20260111T235959
DTSTAMP:20260424T141134
CREATED:20241106T034243Z
LAST-MODIFIED:20251218T071932Z
UID:133911-1765411200-1768175999@panoramalangkawi.com
SUMMARY:School Holiday
DESCRIPTION:Operation start from 9.00 am to 7.00 pm daily
URL:https://panoramalangkawi.com/operation-calendar/normal-operation-222/
CATEGORIES:Normal Operation,School Holiday
END:VEVENT
BEGIN:VEVENT
DTSTART;TZID=Asia/Kuala_Lumpur:20251201T000000
DTEND;TZID=Asia/Kuala_Lumpur:20251209T235959
DTSTAMP:20260424T141134
CREATED:20241106T034001Z
LAST-MODIFIED:20250601T064439Z
UID:133909-1764547200-1765324799@panoramalangkawi.com
SUMMARY:Normal Operation
DESCRIPTION:Operation start from 9.30 am to 6.00 pm daily
URL:https://panoramalangkawi.com/operation-calendar/normal-operation-221/
CATEGORIES:Normal Operation
END:VEVENT
BEGIN:VEVENT
DTSTART;TZID=Asia/Kuala_Lumpur:20251120T000000
DTEND;TZID=Asia/Kuala_Lumpur:20251130T235959
DTSTAMP:20260424T141134
CREATED:20241106T033602Z
LAST-MODIFIED:20250601T064422Z
UID:133903-1763596800-1764547199@panoramalangkawi.com
SUMMARY:Normal Operation
DESCRIPTION:Operation start from 9.30 am to 6.00 pm daily
URL:https://panoramalangkawi.com/operation-calendar/normal-operation-220/
CATEGORIES:Normal Operation
END:VEVENT
BEGIN:VEVENT
DTSTART;TZID=Asia/Kuala_Lumpur:20251113T000000
DTEND;TZID=Asia/Kuala_Lumpur:20251118T235959
DTSTAMP:20260424T141134
CREATED:20241106T033503Z
LAST-MODIFIED:20250601T064308Z
UID:133901-1762992000-1763510399@panoramalangkawi.com
SUMMARY:Normal Operation
DESCRIPTION:Operation start from 9.30 am to 6.00 pm daily
URL:https://panoramalangkawi.com/operation-calendar/normal-operation-219/
CATEGORIES:Normal Operation
END:VEVENT
BEGIN:VEVENT
DTSTART;TZID=Asia/Kuala_Lumpur:20251101T000000
DTEND;TZID=Asia/Kuala_Lumpur:20251111T235959
DTSTAMP:20260424T141134
CREATED:20241106T033407Z
LAST-MODIFIED:20250601T064213Z
UID:133899-1761955200-1762905599@panoramalangkawi.com
SUMMARY:Normal Operation
DESCRIPTION:Operation start from 9.30 am to 6.00 pm daily
URL:https://panoramalangkawi.com/operation-calendar/normal-operation-218/
CATEGORIES:Normal Operation
END:VEVENT
BEGIN:VEVENT
DTSTART;TZID=Asia/Kuala_Lumpur:20251030T000000
DTEND;TZID=Asia/Kuala_Lumpur:20251031T235959
DTSTAMP:20260424T141134
CREATED:20241106T033133Z
LAST-MODIFIED:20250601T063959Z
UID:133895-1761782400-1761955199@panoramalangkawi.com
SUMMARY:Normal Operation
DESCRIPTION:Operation start from 9.30 am to 6.00 pm daily
URL:https://panoramalangkawi.com/operation-calendar/normal-operation-217/
CATEGORIES:Normal Operation
END:VEVENT
BEGIN:VEVENT
DTSTART;TZID=Asia/Kuala_Lumpur:20251021T000000
DTEND;TZID=Asia/Kuala_Lumpur:20251028T235959
DTSTAMP:20260424T141134
CREATED:20241106T031402Z
LAST-MODIFIED:20250601T063846Z
UID:133885-1761004800-1761695999@panoramalangkawi.com
SUMMARY:Normal Operation
DESCRIPTION:Operation start from 9.30 am to 6.00 pm daily
URL:https://panoramalangkawi.com/operation-calendar/normal-operation-216/
CATEGORIES:Normal Operation
END:VEVENT
BEGIN:VEVENT
DTSTART;TZID=Asia/Kuala_Lumpur:20251016T000000
DTEND;TZID=Asia/Kuala_Lumpur:20251019T235959
DTSTAMP:20260424T141134
CREATED:20241106T031146Z
LAST-MODIFIED:20250601T043656Z
UID:133883-1760572800-1760918399@panoramalangkawi.com
SUMMARY:Normal Operation
DESCRIPTION:Operation start from 9.30 am to 6.00 pm daily
URL:https://panoramalangkawi.com/operation-calendar/normal-operation-215/
CATEGORIES:Normal Operation
END:VEVENT
BEGIN:VEVENT
DTSTART;TZID=Asia/Kuala_Lumpur:20251009T000000
DTEND;TZID=Asia/Kuala_Lumpur:20251014T235959
DTSTAMP:20260424T141134
CREATED:20241106T023032Z
LAST-MODIFIED:20250601T043550Z
UID:133881-1759968000-1760486399@panoramalangkawi.com
SUMMARY:Normal Operation
DESCRIPTION:Operation start from 9.30 am to 6.00 pm daily
URL:https://panoramalangkawi.com/operation-calendar/normal-operation-214/
CATEGORIES:Normal Operation
END:VEVENT
BEGIN:VEVENT
DTSTART;TZID=Asia/Kuala_Lumpur:20251001T000000
DTEND;TZID=Asia/Kuala_Lumpur:20251007T235959
DTSTAMP:20260424T141134
CREATED:20241106T022858Z
LAST-MODIFIED:20250601T043451Z
UID:133879-1759276800-1759881599@panoramalangkawi.com
SUMMARY:Normal Operation
DESCRIPTION:Operation start from 9.30 am to 6.00 pm daily
URL:https://panoramalangkawi.com/operation-calendar/normal-operation-213/
CATEGORIES:Normal Operation
END:VEVENT
BEGIN:VEVENT
DTSTART;TZID=Asia/Kuala_Lumpur:20250925T000000
DTEND;TZID=Asia/Kuala_Lumpur:20250930T235959
DTSTAMP:20260424T141134
CREATED:20241106T022122Z
LAST-MODIFIED:20250601T043433Z
UID:133869-1758758400-1759276799@panoramalangkawi.com
SUMMARY:Normal Operation
DESCRIPTION:Operation start from 9.30 am to 6.00 pm daily
URL:https://panoramalangkawi.com/operation-calendar/normal-operation-212/
CATEGORIES:Normal Operation
END:VEVENT
BEGIN:VEVENT
DTSTART;TZID=Asia/Kuala_Lumpur:20250917T000000
DTEND;TZID=Asia/Kuala_Lumpur:20250923T235959
DTSTAMP:20260424T141134
CREATED:20241106T021957Z
LAST-MODIFIED:20250601T042701Z
UID:133867-1758067200-1758671999@panoramalangkawi.com
SUMMARY:Normal Operation
DESCRIPTION:Operation start from 9.30 am to 6.00 pm daily
URL:https://panoramalangkawi.com/operation-calendar/normal-operation-211/
CATEGORIES:Normal Operation
END:VEVENT
BEGIN:VEVENT
DTSTART;TZID=Asia/Kuala_Lumpur:20250911T000000
DTEND;TZID=Asia/Kuala_Lumpur:20250915T235959
DTSTAMP:20260424T141134
CREATED:20241105T034241Z
LAST-MODIFIED:20250601T042542Z
UID:133861-1757548800-1757980799@panoramalangkawi.com
SUMMARY:Normal Operation
DESCRIPTION:Operation start from 9.30 am to 6.00 pm
URL:https://panoramalangkawi.com/operation-calendar/normal-operation-210/
CATEGORIES:Normal Operation
END:VEVENT
BEGIN:VEVENT
DTSTART;TZID=Asia/Kuala_Lumpur:20250906T000000
DTEND;TZID=Asia/Kuala_Lumpur:20250909T235959
DTSTAMP:20260424T141134
CREATED:20241105T034132Z
LAST-MODIFIED:20250601T042013Z
UID:133859-1757116800-1757462399@panoramalangkawi.com
SUMMARY:Normal Operation
DESCRIPTION:Operation start from 9.30 am to 6.00 pm daily
URL:https://panoramalangkawi.com/operation-calendar/normal-operation-209/
CATEGORIES:Normal Operation
END:VEVENT
BEGIN:VEVENT
DTSTART;TZID=Asia/Kuala_Lumpur:20250901T000000
DTEND;TZID=Asia/Kuala_Lumpur:20250904T235959
DTSTAMP:20260424T141134
CREATED:20241105T031841Z
LAST-MODIFIED:20250601T041856Z
UID:133857-1756684800-1757030399@panoramalangkawi.com
SUMMARY:Normal Operation
DESCRIPTION:Operation start from 9.30 am to 6.00 pm daily
URL:https://panoramalangkawi.com/operation-calendar/normal-operation-208/
CATEGORIES:Normal Operation
END:VEVENT
BEGIN:VEVENT
DTSTART;TZID=Asia/Kuala_Lumpur:20250821T000000
DTEND;TZID=Asia/Kuala_Lumpur:20250830T235959
DTSTAMP:20260424T141134
CREATED:20241105T031103Z
LAST-MODIFIED:20250601T041512Z
UID:133849-1755734400-1756598399@panoramalangkawi.com
SUMMARY:Normal Operation
DESCRIPTION:Operation start from 9.30 am to 6.00 pm daily
URL:https://panoramalangkawi.com/operation-calendar/normal-operation-207/
CATEGORIES:Normal Operation
END:VEVENT
BEGIN:VEVENT
DTSTART;TZID=Asia/Kuala_Lumpur:20250814T000000
DTEND;TZID=Asia/Kuala_Lumpur:20250819T235959
DTSTAMP:20260424T141134
CREATED:20241105T031020Z
LAST-MODIFIED:20250601T041208Z
UID:133847-1755129600-1755647999@panoramalangkawi.com
SUMMARY:Normal Operation
DESCRIPTION:Operation start from 9.30 am to 6.00 pm daily
URL:https://panoramalangkawi.com/operation-calendar/normal-operation-206/
CATEGORIES:Normal Operation
END:VEVENT
BEGIN:VEVENT
DTSTART;TZID=Asia/Kuala_Lumpur:20250801T000000
DTEND;TZID=Asia/Kuala_Lumpur:20250812T235959
DTSTAMP:20260424T141134
CREATED:20241105T030930Z
LAST-MODIFIED:20250601T041044Z
UID:133845-1754006400-1755043199@panoramalangkawi.com
SUMMARY:Normal Operation
DESCRIPTION:Operation start from 9.30 am to 6.00 pm daily
URL:https://panoramalangkawi.com/operation-calendar/normal-operation-205/
CATEGORIES:Normal Operation
END:VEVENT
BEGIN:VEVENT
DTSTART;TZID=Asia/Kuala_Lumpur:20250724T000000
DTEND;TZID=Asia/Kuala_Lumpur:20250731T235959
DTSTAMP:20260424T141134
CREATED:20241105T025654Z
LAST-MODIFIED:20250601T040725Z
UID:133841-1753315200-1754006399@panoramalangkawi.com
SUMMARY:Normal Operation
DESCRIPTION:Operation start from 9.30 am to 6.00 pm daily
URL:https://panoramalangkawi.com/operation-calendar/normal-operation-204/
CATEGORIES:Normal Operation
END:VEVENT
BEGIN:VEVENT
DTSTART;TZID=Asia/Kuala_Lumpur:20250720T000000
DTEND;TZID=Asia/Kuala_Lumpur:20250722T235959
DTSTAMP:20260424T141134
CREATED:20241104T075652Z
LAST-MODIFIED:20250601T020316Z
UID:133837-1752969600-1753228799@panoramalangkawi.com
SUMMARY:Normal Operation
DESCRIPTION:Operation start from 9.30 am to 6.00 pm daily
URL:https://panoramalangkawi.com/operation-calendar/normal-operation-203/
CATEGORIES:Normal Operation
END:VEVENT
BEGIN:VEVENT
DTSTART;TZID=Asia/Kuala_Lumpur:20250701T000000
DTEND;TZID=Asia/Kuala_Lumpur:20250705T235959
DTSTAMP:20260424T141134
CREATED:20241030T035511Z
LAST-MODIFIED:20250601T015838Z
UID:133828-1751328000-1751759999@panoramalangkawi.com
SUMMARY:Normal Operation
DESCRIPTION:Operation start from 9.30 am to 6.00 pm daily
URL:https://panoramalangkawi.com/operation-calendar/normal-operation-202/
CATEGORIES:Normal Operation
END:VEVENT
BEGIN:VEVENT
DTSTART;TZID=Asia/Kuala_Lumpur:20250628T000000
DTEND;TZID=Asia/Kuala_Lumpur:20250630T235959
DTSTAMP:20260424T141134
CREATED:20241029T062545Z
LAST-MODIFIED:20250601T020110Z
UID:133806-1751068800-1751327999@panoramalangkawi.com
SUMMARY:Normal Operation
DESCRIPTION:Operation start from 9.30 am to 6.00 pm daily
URL:https://panoramalangkawi.com/operation-calendar/normal-operation-201/
CATEGORIES:Normal Operation
END:VEVENT
BEGIN:VEVENT
DTSTART;TZID=Asia/Kuala_Lumpur:20250623T000000
DTEND;TZID=Asia/Kuala_Lumpur:20250626T235959
DTSTAMP:20260424T141134
CREATED:20241029T062458Z
LAST-MODIFIED:20250601T020054Z
UID:133804-1750636800-1750982399@panoramalangkawi.com
SUMMARY:Normal Operation
DESCRIPTION:Operation start from 9.30 am to 6.00 pm daily
URL:https://panoramalangkawi.com/operation-calendar/normal-operation-200/
CATEGORIES:Normal Operation
END:VEVENT
BEGIN:VEVENT
DTSTART;TZID=Asia/Kuala_Lumpur:20250619T000000
DTEND;TZID=Asia/Kuala_Lumpur:20250621T235959
DTSTAMP:20260424T141134
CREATED:20241029T062401Z
LAST-MODIFIED:20250601T020039Z
UID:133802-1750291200-1750550399@panoramalangkawi.com
SUMMARY:Normal Operation
DESCRIPTION:Operation start from 9.30 am to 6.00 pm daily
URL:https://panoramalangkawi.com/operation-calendar/normal-operation-199/
CATEGORIES:Normal Operation
END:VEVENT
BEGIN:VEVENT
DTSTART;TZID=Asia/Kuala_Lumpur:20250612T000000
DTEND;TZID=Asia/Kuala_Lumpur:20250617T235959
DTSTAMP:20260424T141134
CREATED:20241029T062134Z
LAST-MODIFIED:20250601T020018Z
UID:133800-1749686400-1750204799@panoramalangkawi.com
SUMMARY:Normal Operation
DESCRIPTION:Operation start from 9.30 am to 6.00 pm daily
URL:https://panoramalangkawi.com/operation-calendar/normal-operation-198/
CATEGORIES:Normal Operation
END:VEVENT
BEGIN:VEVENT
DTSTART;TZID=Asia/Kuala_Lumpur:20250608T000000
DTEND;TZID=Asia/Kuala_Lumpur:20250609T235959
DTSTAMP:20260424T141134
CREATED:20241029T062032Z
LAST-MODIFIED:20250601T064951Z
UID:133798-1749340800-1749513599@panoramalangkawi.com
SUMMARY:Normal Operation
DESCRIPTION:Operation start from 9.00 am to 6.30 pm daily
URL:https://panoramalangkawi.com/operation-calendar/normal-operation-197/
CATEGORIES:Normal Operation
END:VEVENT
BEGIN:VEVENT
DTSTART;TZID=Asia/Kuala_Lumpur:20250603T000000
DTEND;TZID=Asia/Kuala_Lumpur:20250606T235959
DTSTAMP:20260424T141134
CREATED:20241029T061907Z
LAST-MODIFIED:20250601T015908Z
UID:133796-1748908800-1749254399@panoramalangkawi.com
SUMMARY:Normal Operation
DESCRIPTION:Operation start from 9.00 am to 6.30 pm daily
URL:https://panoramalangkawi.com/operation-calendar/normal-operation-196/
CATEGORIES:Normal Operation
END:VEVENT
BEGIN:VEVENT
DTSTART;TZID=Asia/Kuala_Lumpur:20250601T000000
DTEND;TZID=Asia/Kuala_Lumpur:20250601T235959
DTSTAMP:20260424T141134
CREATED:20241029T061757Z
LAST-MODIFIED:20250601T015828Z
UID:133794-1748736000-1748822399@panoramalangkawi.com
SUMMARY:Normal Operation
DESCRIPTION:Operation starts at 9:00 am – 6:30 pm daily
URL:https://panoramalangkawi.com/operation-calendar/normal-operation-195/
CATEGORIES:Normal Operation
END:VEVENT
BEGIN:VEVENT
DTSTART;TZID=Asia/Kuala_Lumpur:20250525T000000
DTEND;TZID=Asia/Kuala_Lumpur:20250531T235959
DTSTAMP:20260424T141134
CREATED:20250518T024753Z
LAST-MODIFIED:20250529T045025Z
UID:134147-1748131200-1748735999@panoramalangkawi.com
SUMMARY:Normal Operation
DESCRIPTION:Operation start from 9.30 am to 6.00 pm
URL:https://panoramalangkawi.com/operation-calendar/normal-operation-225/
CATEGORIES:Normal Operation
END:VEVENT
END:VCALENDAR