BEGIN:VCALENDAR
VERSION:2.0
PRODID:-//Official Website for Langkawi Cable Car - ECPv6.6.0//NONSGML v1.0//EN
CALSCALE:GREGORIAN
METHOD:PUBLISH
X-WR-CALNAME:Official Website for Langkawi Cable Car
X-ORIGINAL-URL:https://panoramalangkawi.com
X-WR-CALDESC:Events for Official Website for Langkawi Cable Car
REFRESH-INTERVAL;VALUE=DURATION:PT1H
X-Robots-Tag:noindex
X-PUBLISHED-TTL:PT1H
BEGIN:VTIMEZONE
TZID:Asia/Kuala_Lumpur
BEGIN:STANDARD
TZOFFSETFROM:+0800
TZOFFSETTO:+0800
TZNAME:+08
DTSTART:20240101T000000
END:STANDARD
END:VTIMEZONE
BEGIN:VEVENT
DTSTART;TZID=Asia/Kuala_Lumpur:20240701T093000
DTEND;TZID=Asia/Kuala_Lumpur:20240701T180000
DTSTAMP:20260425T105426
CREATED:20231227T062458Z
LAST-MODIFIED:20240616T020751Z
UID:132471-1719826200-1719856800@panoramalangkawi.com
SUMMARY:Normal Operation
DESCRIPTION:
URL:https://panoramalangkawi.com/operation-calendar/normal-operation-157/
CATEGORIES:Normal Operation
END:VEVENT
BEGIN:VEVENT
DTSTART;TZID=Asia/Kuala_Lumpur:20240630T093000
DTEND;TZID=Asia/Kuala_Lumpur:20240630T180000
DTSTAMP:20260425T105426
CREATED:20231227T045515Z
LAST-MODIFIED:20240616T023645Z
UID:133487-1719739800-1719770400@panoramalangkawi.com
SUMMARY:Normal Operation
DESCRIPTION:
URL:https://panoramalangkawi.com/operation-calendar/normal-operation-129-2024-06-30/
CATEGORIES:Normal Operation
END:VEVENT
BEGIN:VEVENT
DTSTART;TZID=Asia/Kuala_Lumpur:20240629T093000
DTEND;TZID=Asia/Kuala_Lumpur:20240629T180000
DTSTAMP:20260425T105426
CREATED:20231227T045515Z
LAST-MODIFIED:20240616T023645Z
UID:133486-1719653400-1719684000@panoramalangkawi.com
SUMMARY:Normal Operation
DESCRIPTION:
URL:https://panoramalangkawi.com/operation-calendar/normal-operation-129-2024-06-29/
CATEGORIES:Normal Operation
END:VEVENT
BEGIN:VEVENT
DTSTART;TZID=Asia/Kuala_Lumpur:20240628T093000
DTEND;TZID=Asia/Kuala_Lumpur:20240628T180000
DTSTAMP:20260425T105426
CREATED:20231227T045515Z
LAST-MODIFIED:20240616T023645Z
UID:133485-1719567000-1719597600@panoramalangkawi.com
SUMMARY:Normal Operation
DESCRIPTION:
URL:https://panoramalangkawi.com/operation-calendar/normal-operation-129-2024-06-28/
CATEGORIES:Normal Operation
END:VEVENT
BEGIN:VEVENT
DTSTART;TZID=Asia/Kuala_Lumpur:20240627T093000
DTEND;TZID=Asia/Kuala_Lumpur:20240627T180000
DTSTAMP:20260425T105426
CREATED:20231227T045515Z
LAST-MODIFIED:20240616T023644Z
UID:133484-1719480600-1719511200@panoramalangkawi.com
SUMMARY:Normal Operation
DESCRIPTION:
URL:https://panoramalangkawi.com/operation-calendar/normal-operation-129-2024-06-27/
CATEGORIES:Normal Operation
END:VEVENT
BEGIN:VEVENT
DTSTART;TZID=Asia/Kuala_Lumpur:20240626T120000
DTEND;TZID=Asia/Kuala_Lumpur:20240626T180000
DTSTAMP:20260425T105426
CREATED:20231227T045908Z
LAST-MODIFIED:20231227T050008Z
UID:132442-1719403200-1719424800@panoramalangkawi.com
SUMMARY:Operation start at 12 noon
DESCRIPTION:
URL:https://panoramalangkawi.com/operation-calendar/operation-start-at-12-noon-12-2024-06-26/
CATEGORIES:Normal Operation
END:VEVENT
BEGIN:VEVENT
DTSTART;TZID=Asia/Kuala_Lumpur:20240625T093000
DTEND;TZID=Asia/Kuala_Lumpur:20240625T180000
DTSTAMP:20260425T105426
CREATED:20231227T045515Z
LAST-MODIFIED:20240616T023644Z
UID:133483-1719307800-1719338400@panoramalangkawi.com
SUMMARY:Normal Operation
DESCRIPTION:
URL:https://panoramalangkawi.com/operation-calendar/normal-operation-129-2024-06-25/
CATEGORIES:Normal Operation
END:VEVENT
BEGIN:VEVENT
DTSTART;TZID=Asia/Kuala_Lumpur:20240624T093000
DTEND;TZID=Asia/Kuala_Lumpur:20240624T180000
DTSTAMP:20260425T105426
CREATED:20231227T045515Z
LAST-MODIFIED:20240616T023644Z
UID:133482-1719221400-1719252000@panoramalangkawi.com
SUMMARY:Normal Operation
DESCRIPTION:
URL:https://panoramalangkawi.com/operation-calendar/normal-operation-129-2024-06-24/
CATEGORIES:Normal Operation
END:VEVENT
BEGIN:VEVENT
DTSTART;TZID=Asia/Kuala_Lumpur:20240623T093000
DTEND;TZID=Asia/Kuala_Lumpur:20240623T180000
DTSTAMP:20260425T105426
CREATED:20231227T045515Z
LAST-MODIFIED:20240616T023643Z
UID:133481-1719135000-1719165600@panoramalangkawi.com
SUMMARY:Normal Operation
DESCRIPTION:
URL:https://panoramalangkawi.com/operation-calendar/normal-operation-129-2024-06-23/
CATEGORIES:Normal Operation
END:VEVENT
BEGIN:VEVENT
DTSTART;TZID=Asia/Kuala_Lumpur:20240622T093000
DTEND;TZID=Asia/Kuala_Lumpur:20240622T180000
DTSTAMP:20260425T105426
CREATED:20231227T045515Z
LAST-MODIFIED:20240616T023643Z
UID:133480-1719048600-1719079200@panoramalangkawi.com
SUMMARY:Normal Operation
DESCRIPTION:
URL:https://panoramalangkawi.com/operation-calendar/normal-operation-129-2024-06-22/
CATEGORIES:Normal Operation
END:VEVENT
BEGIN:VEVENT
DTSTART;TZID=Asia/Kuala_Lumpur:20240621T093000
DTEND;TZID=Asia/Kuala_Lumpur:20240621T180000
DTSTAMP:20260425T105426
CREATED:20231227T045515Z
LAST-MODIFIED:20240616T023643Z
UID:133479-1718962200-1718992800@panoramalangkawi.com
SUMMARY:Normal Operation
DESCRIPTION:
URL:https://panoramalangkawi.com/operation-calendar/normal-operation-129-2024-06-21/
CATEGORIES:Normal Operation
END:VEVENT
BEGIN:VEVENT
DTSTART;TZID=Asia/Kuala_Lumpur:20240620T093000
DTEND;TZID=Asia/Kuala_Lumpur:20240620T180000
DTSTAMP:20260425T105426
CREATED:20231227T045515Z
LAST-MODIFIED:20240616T023643Z
UID:133478-1718875800-1718906400@panoramalangkawi.com
SUMMARY:Normal Operation
DESCRIPTION:
URL:https://panoramalangkawi.com/operation-calendar/normal-operation-129-2024-06-20/
CATEGORIES:Normal Operation
END:VEVENT
BEGIN:VEVENT
DTSTART;TZID=Asia/Kuala_Lumpur:20240619T093000
DTEND;TZID=Asia/Kuala_Lumpur:20240619T180000
DTSTAMP:20260425T105426
CREATED:20231227T045515Z
LAST-MODIFIED:20240616T023643Z
UID:133477-1718789400-1718820000@panoramalangkawi.com
SUMMARY:Normal Operation
DESCRIPTION:
URL:https://panoramalangkawi.com/operation-calendar/normal-operation-129-2024-06-19/
CATEGORIES:Normal Operation
END:VEVENT
BEGIN:VEVENT
DTSTART;TZID=Asia/Kuala_Lumpur:20240616T093000
DTEND;TZID=Asia/Kuala_Lumpur:20240616T180000
DTSTAMP:20260425T105426
CREATED:20231227T045515Z
LAST-MODIFIED:20240616T023643Z
UID:133476-1718530200-1718560800@panoramalangkawi.com
SUMMARY:Normal Operation
DESCRIPTION:
URL:https://panoramalangkawi.com/operation-calendar/normal-operation-129-2024-06-16/
CATEGORIES:Normal Operation
END:VEVENT
BEGIN:VEVENT
DTSTART;TZID=Asia/Kuala_Lumpur:20240615T093000
DTEND;TZID=Asia/Kuala_Lumpur:20240615T180000
DTSTAMP:20260425T105426
CREATED:20231227T045515Z
LAST-MODIFIED:20240616T023643Z
UID:133475-1718443800-1718474400@panoramalangkawi.com
SUMMARY:Normal Operation
DESCRIPTION:
URL:https://panoramalangkawi.com/operation-calendar/normal-operation-129-2024-06-15/
CATEGORIES:Normal Operation
END:VEVENT
BEGIN:VEVENT
DTSTART;TZID=Asia/Kuala_Lumpur:20240614T093000
DTEND;TZID=Asia/Kuala_Lumpur:20240614T180000
DTSTAMP:20260425T105426
CREATED:20231227T045515Z
LAST-MODIFIED:20240616T023639Z
UID:133474-1718357400-1718388000@panoramalangkawi.com
SUMMARY:Normal Operation
DESCRIPTION:
URL:https://panoramalangkawi.com/operation-calendar/normal-operation-129-2024-06-14/
CATEGORIES:Normal Operation
END:VEVENT
BEGIN:VEVENT
DTSTART;TZID=Asia/Kuala_Lumpur:20240613T093000
DTEND;TZID=Asia/Kuala_Lumpur:20240613T180000
DTSTAMP:20260425T105426
CREATED:20231227T045515Z
LAST-MODIFIED:20240616T023639Z
UID:133473-1718271000-1718301600@panoramalangkawi.com
SUMMARY:Normal Operation
DESCRIPTION:
URL:https://panoramalangkawi.com/operation-calendar/normal-operation-129-2024-06-13/
CATEGORIES:Normal Operation
END:VEVENT
BEGIN:VEVENT
DTSTART;TZID=Asia/Kuala_Lumpur:20240612T120000
DTEND;TZID=Asia/Kuala_Lumpur:20240612T180000
DTSTAMP:20260425T105426
CREATED:20231227T045908Z
LAST-MODIFIED:20231227T050008Z
UID:132441-1718193600-1718215200@panoramalangkawi.com
SUMMARY:Operation start at 12 noon
DESCRIPTION:
URL:https://panoramalangkawi.com/operation-calendar/operation-start-at-12-noon-12-2024-06-12/
CATEGORIES:Normal Operation
END:VEVENT
BEGIN:VEVENT
DTSTART;TZID=Asia/Kuala_Lumpur:20240611T093000
DTEND;TZID=Asia/Kuala_Lumpur:20240611T180000
DTSTAMP:20260425T105426
CREATED:20231227T045515Z
LAST-MODIFIED:20240616T023639Z
UID:133472-1718098200-1718128800@panoramalangkawi.com
SUMMARY:Normal Operation
DESCRIPTION:
URL:https://panoramalangkawi.com/operation-calendar/normal-operation-129-2024-06-11/
CATEGORIES:Normal Operation
END:VEVENT
BEGIN:VEVENT
DTSTART;TZID=Asia/Kuala_Lumpur:20240610T093000
DTEND;TZID=Asia/Kuala_Lumpur:20240610T180000
DTSTAMP:20260425T105426
CREATED:20231227T045515Z
LAST-MODIFIED:20240616T023639Z
UID:133471-1718011800-1718042400@panoramalangkawi.com
SUMMARY:Normal Operation
DESCRIPTION:
URL:https://panoramalangkawi.com/operation-calendar/normal-operation-129-2024-06-10/
CATEGORIES:Normal Operation
END:VEVENT
BEGIN:VEVENT
DTSTART;TZID=Asia/Kuala_Lumpur:20240609T093000
DTEND;TZID=Asia/Kuala_Lumpur:20240609T180000
DTSTAMP:20260425T105426
CREATED:20231227T045515Z
LAST-MODIFIED:20240616T023639Z
UID:133470-1717925400-1717956000@panoramalangkawi.com
SUMMARY:Normal Operation
DESCRIPTION:
URL:https://panoramalangkawi.com/operation-calendar/normal-operation-129-2024-06-09/
CATEGORIES:Normal Operation
END:VEVENT
BEGIN:VEVENT
DTSTART;TZID=Asia/Kuala_Lumpur:20240608T093000
DTEND;TZID=Asia/Kuala_Lumpur:20240608T180000
DTSTAMP:20260425T105426
CREATED:20231227T045515Z
LAST-MODIFIED:20240616T023639Z
UID:133469-1717839000-1717869600@panoramalangkawi.com
SUMMARY:Normal Operation
DESCRIPTION:
URL:https://panoramalangkawi.com/operation-calendar/normal-operation-129-2024-06-08/
CATEGORIES:Normal Operation
END:VEVENT
BEGIN:VEVENT
DTSTART;TZID=Asia/Kuala_Lumpur:20240607T093000
DTEND;TZID=Asia/Kuala_Lumpur:20240607T180000
DTSTAMP:20260425T105426
CREATED:20231227T045515Z
LAST-MODIFIED:20240616T023639Z
UID:133468-1717752600-1717783200@panoramalangkawi.com
SUMMARY:Normal Operation
DESCRIPTION:
URL:https://panoramalangkawi.com/operation-calendar/normal-operation-129-2024-06-07/
CATEGORIES:Normal Operation
END:VEVENT
BEGIN:VEVENT
DTSTART;TZID=Asia/Kuala_Lumpur:20240606T093000
DTEND;TZID=Asia/Kuala_Lumpur:20240606T180000
DTSTAMP:20260425T105426
CREATED:20231227T045515Z
LAST-MODIFIED:20240616T023638Z
UID:133467-1717666200-1717696800@panoramalangkawi.com
SUMMARY:Normal Operation
DESCRIPTION:
URL:https://panoramalangkawi.com/operation-calendar/normal-operation-129-2024-06-06/
CATEGORIES:Normal Operation
END:VEVENT
BEGIN:VEVENT
DTSTART;TZID=Asia/Kuala_Lumpur:20240605T120000
DTEND;TZID=Asia/Kuala_Lumpur:20240605T180000
DTSTAMP:20260425T105426
CREATED:20231227T045908Z
LAST-MODIFIED:20231227T050005Z
UID:132439-1717588800-1717610400@panoramalangkawi.com
SUMMARY:Operation start at 12 noon
DESCRIPTION:
URL:https://panoramalangkawi.com/operation-calendar/operation-start-at-12-noon-12/
CATEGORIES:Normal Operation
END:VEVENT
BEGIN:VEVENT
DTSTART;TZID=Asia/Kuala_Lumpur:20240604T093000
DTEND;TZID=Asia/Kuala_Lumpur:20240604T180000
DTSTAMP:20260425T105426
CREATED:20231227T045515Z
LAST-MODIFIED:20240616T023638Z
UID:133466-1717493400-1717524000@panoramalangkawi.com
SUMMARY:Normal Operation
DESCRIPTION:
URL:https://panoramalangkawi.com/operation-calendar/normal-operation-129-2024-06-04/
CATEGORIES:Normal Operation
END:VEVENT
BEGIN:VEVENT
DTSTART;TZID=Asia/Kuala_Lumpur:20240602T093000
DTEND;TZID=Asia/Kuala_Lumpur:20240602T180000
DTSTAMP:20260425T105426
CREATED:20231227T045515Z
LAST-MODIFIED:20240616T023638Z
UID:133465-1717320600-1717351200@panoramalangkawi.com
SUMMARY:Normal Operation
DESCRIPTION:
URL:https://panoramalangkawi.com/operation-calendar/normal-operation-129-2024-06-02/
CATEGORIES:Normal Operation
END:VEVENT
BEGIN:VEVENT
DTSTART;TZID=Asia/Kuala_Lumpur:20240601T090000
DTEND;TZID=Asia/Kuala_Lumpur:20240601T183000
DTSTAMP:20260425T105426
CREATED:20231227T045515Z
LAST-MODIFIED:20240616T023637Z
UID:132413-1717232400-1717266600@panoramalangkawi.com
SUMMARY:Normal Operation
DESCRIPTION:
URL:https://panoramalangkawi.com/operation-calendar/normal-operation-129/
CATEGORIES:Normal Operation
END:VEVENT
BEGIN:VEVENT
DTSTART;TZID=Asia/Kuala_Lumpur:20240531T093000
DTEND;TZID=Asia/Kuala_Lumpur:20240531T180000
DTSTAMP:20260425T105426
CREATED:20231227T033645Z
LAST-MODIFIED:20231227T044436Z
UID:132379-1717147800-1717178400@panoramalangkawi.com
SUMMARY:Normal Operation
DESCRIPTION:
URL:https://panoramalangkawi.com/operation-calendar/normal-operation-122-2024-05-31/
CATEGORIES:Normal Operation
END:VEVENT
BEGIN:VEVENT
DTSTART;TZID=Asia/Kuala_Lumpur:20240530T093000
DTEND;TZID=Asia/Kuala_Lumpur:20240530T180000
DTSTAMP:20260425T105426
CREATED:20231227T033645Z
LAST-MODIFIED:20231227T044436Z
UID:132378-1717061400-1717092000@panoramalangkawi.com
SUMMARY:Normal Operation
DESCRIPTION:
URL:https://panoramalangkawi.com/operation-calendar/normal-operation-122-2024-05-30/
CATEGORIES:Normal Operation
END:VEVENT
END:VCALENDAR